BEGIN:VCALENDAR
VERSION:2.0
PRODID:-//Eglise Biblique Baptiste de Lieusaint - ECPv6.15.11//NONSGML v1.0//EN
CALSCALE:GREGORIAN
METHOD:PUBLISH
X-ORIGINAL-URL:https://eglisebblieusaint.com
X-WR-CALDESC:Évènements pour Eglise Biblique Baptiste de Lieusaint
REFRESH-INTERVAL;VALUE=DURATION:PT1H
X-Robots-Tag:noindex
X-PUBLISHED-TTL:PT1H
BEGIN:VTIMEZONE
TZID:Europe/Paris
BEGIN:DAYLIGHT
TZOFFSETFROM:+0100
TZOFFSETTO:+0200
TZNAME:CEST
DTSTART:20230326T010000
END:DAYLIGHT
BEGIN:STANDARD
TZOFFSETFROM:+0200
TZOFFSETTO:+0100
TZNAME:CET
DTSTART:20231029T010000
END:STANDARD
BEGIN:DAYLIGHT
TZOFFSETFROM:+0100
TZOFFSETTO:+0200
TZNAME:CEST
DTSTART:20240331T010000
END:DAYLIGHT
BEGIN:STANDARD
TZOFFSETFROM:+0200
TZOFFSETTO:+0100
TZNAME:CET
DTSTART:20241027T010000
END:STANDARD
BEGIN:DAYLIGHT
TZOFFSETFROM:+0100
TZOFFSETTO:+0200
TZNAME:CEST
DTSTART:20250330T010000
END:DAYLIGHT
BEGIN:STANDARD
TZOFFSETFROM:+0200
TZOFFSETTO:+0100
TZNAME:CET
DTSTART:20251026T010000
END:STANDARD
END:VTIMEZONE
BEGIN:VEVENT
DTSTART;TZID=Europe/Paris:20241112T190000
DTEND;TZID=Europe/Paris:20241112T210000
DTSTAMP:20260424T125251
CREATED:20241102T151806Z
LAST-MODIFIED:20241102T151806Z
UID:1388-1731438000-1731445200@eglisebblieusaint.com
SUMMARY:Reunion de prière
DESCRIPTION:
URL:https://eglisebblieusaint.com/evenement/reunion-de-priere
LOCATION:Chez Auterson
CATEGORIES:La prière
END:VEVENT
END:VCALENDAR