BEGIN:VCALENDAR
VERSION:2.0
PRODID:-//Eglise Biblique Baptiste de Lieusaint - ECPv6.15.11//NONSGML v1.0//EN
CALSCALE:GREGORIAN
METHOD:PUBLISH
X-ORIGINAL-URL:https://eglisebblieusaint.com
X-WR-CALDESC:Évènements pour Eglise Biblique Baptiste de Lieusaint
REFRESH-INTERVAL;VALUE=DURATION:PT1H
X-Robots-Tag:noindex
X-PUBLISHED-TTL:PT1H
BEGIN:VTIMEZONE
TZID:UTC
BEGIN:STANDARD
TZOFFSETFROM:+0000
TZOFFSETTO:+0000
TZNAME:UTC
DTSTART:20240101T000000
END:STANDARD
END:VTIMEZONE
BEGIN:VEVENT
DTSTART;TZID=UTC:20250301T163000
DTEND;TZID=UTC:20250301T181500
DTSTAMP:20260424T070341
CREATED:20250225T143909Z
LAST-MODIFIED:20250225T143909Z
UID:1989-1740846600-1740852900@eglisebblieusaint.com
SUMMARY:Kid's club
DESCRIPTION:
URL:https://eglisebblieusaint.com/evenement/kids-club-6
LOCATION:Chez Whittaker
CATEGORIES:Kid's club
END:VEVENT
END:VCALENDAR