BEGIN:VCALENDAR
VERSION:2.0
PRODID:-//Eglise Biblique Baptiste de Lieusaint - ECPv6.15.11//NONSGML v1.0//EN
CALSCALE:GREGORIAN
METHOD:PUBLISH
X-ORIGINAL-URL:https://eglisebblieusaint.com
X-WR-CALDESC:Évènements pour Eglise Biblique Baptiste de Lieusaint
REFRESH-INTERVAL;VALUE=DURATION:PT1H
X-Robots-Tag:noindex
X-PUBLISHED-TTL:PT1H
BEGIN:VTIMEZONE
TZID:Europe/Paris
BEGIN:DAYLIGHT
TZOFFSETFROM:+0100
TZOFFSETTO:+0200
TZNAME:CEST
DTSTART:20240331T010000
END:DAYLIGHT
BEGIN:STANDARD
TZOFFSETFROM:+0200
TZOFFSETTO:+0100
TZNAME:CET
DTSTART:20241027T010000
END:STANDARD
BEGIN:DAYLIGHT
TZOFFSETFROM:+0100
TZOFFSETTO:+0200
TZNAME:CEST
DTSTART:20250330T010000
END:DAYLIGHT
BEGIN:STANDARD
TZOFFSETFROM:+0200
TZOFFSETTO:+0100
TZNAME:CET
DTSTART:20251026T010000
END:STANDARD
BEGIN:DAYLIGHT
TZOFFSETFROM:+0100
TZOFFSETTO:+0200
TZNAME:CEST
DTSTART:20260329T010000
END:DAYLIGHT
BEGIN:STANDARD
TZOFFSETFROM:+0200
TZOFFSETTO:+0100
TZNAME:CET
DTSTART:20261025T010000
END:STANDARD
END:VTIMEZONE
BEGIN:VEVENT
DTSTART;TZID=Europe/Paris:20250119T100000
DTEND;TZID=Europe/Paris:20250119T104500
DTSTAMP:20260425T121910
CREATED:20250101T090812Z
LAST-MODIFIED:20250101T090812Z
UID:1809-1737280800-1737283500@eglisebblieusaint.com
SUMMARY:Assemblée générale : 1901
DESCRIPTION:
URL:https://eglisebblieusaint.com/evenement/assemblee-generale-1901
LOCATION:Maison des Associations\, 5 Impasse du Moulin à Vent\, Lieusaint\, 77127
CATEGORIES:Assemblée générale
END:VEVENT
BEGIN:VEVENT
DTSTART;TZID=Europe/Paris:20250119T100000
DTEND;TZID=Europe/Paris:20250119T104500
DTSTAMP:20260425T121910
CREATED:20250101T090850Z
LAST-MODIFIED:20250101T092001Z
UID:1811-1737280800-1737283500@eglisebblieusaint.com
SUMMARY:Assemblée générale : 1905
DESCRIPTION:
URL:https://eglisebblieusaint.com/evenement/assemblee-generale-1905
LOCATION:Maison des Associations\, 5 Impasse du Moulin à Vent\, Lieusaint\, 77127
CATEGORIES:Assemblée générale
END:VEVENT
END:VCALENDAR