BEGIN:VCALENDAR
VERSION:2.0
PRODID:-//Eglise Biblique Baptiste de Lieusaint - ECPv6.15.11//NONSGML v1.0//EN
CALSCALE:GREGORIAN
METHOD:PUBLISH
X-ORIGINAL-URL:https://eglisebblieusaint.com
X-WR-CALDESC:Évènements pour Eglise Biblique Baptiste de Lieusaint
REFRESH-INTERVAL;VALUE=DURATION:PT1H
X-Robots-Tag:noindex
X-PUBLISHED-TTL:PT1H
BEGIN:VTIMEZONE
TZID:Europe/Paris
BEGIN:DAYLIGHT
TZOFFSETFROM:+0100
TZOFFSETTO:+0200
TZNAME:CEST
DTSTART:20250330T010000
END:DAYLIGHT
BEGIN:STANDARD
TZOFFSETFROM:+0200
TZOFFSETTO:+0100
TZNAME:CET
DTSTART:20251026T010000
END:STANDARD
BEGIN:DAYLIGHT
TZOFFSETFROM:+0100
TZOFFSETTO:+0200
TZNAME:CEST
DTSTART:20260329T010000
END:DAYLIGHT
BEGIN:STANDARD
TZOFFSETFROM:+0200
TZOFFSETTO:+0100
TZNAME:CET
DTSTART:20261025T010000
END:STANDARD
BEGIN:DAYLIGHT
TZOFFSETFROM:+0100
TZOFFSETTO:+0200
TZNAME:CEST
DTSTART:20270328T010000
END:DAYLIGHT
BEGIN:STANDARD
TZOFFSETFROM:+0200
TZOFFSETTO:+0100
TZNAME:CET
DTSTART:20271031T010000
END:STANDARD
END:VTIMEZONE
BEGIN:VEVENT
DTSTART;TZID=Europe/Paris:20260118T100000
DTEND;TZID=Europe/Paris:20260118T170000
DTSTAMP:20260424T173204
CREATED:20260102T142120Z
LAST-MODIFIED:20260102T142120Z
UID:3008-1768730400-1768755600@eglisebblieusaint.com
SUMMARY:Assemblée Générale
DESCRIPTION:
URL:https://eglisebblieusaint.com/evenement/assemblee-generale
LOCATION:54 rue de Paris\, Lieusaint\, 54 rue de Paris\, Lieusaint\, 77127\, France
CATEGORIES:Assemblée générale
END:VEVENT
END:VCALENDAR