BEGIN:VCALENDAR
VERSION:2.0
PRODID:-//Eglise Biblique Baptiste de Lieusaint - ECPv6.15.11//NONSGML v1.0//EN
CALSCALE:GREGORIAN
METHOD:PUBLISH
X-ORIGINAL-URL:https://eglisebblieusaint.com
X-WR-CALDESC:Évènements pour Eglise Biblique Baptiste de Lieusaint
REFRESH-INTERVAL;VALUE=DURATION:PT1H
X-Robots-Tag:noindex
X-PUBLISHED-TTL:PT1H
BEGIN:VTIMEZONE
TZID:Europe/Paris
BEGIN:DAYLIGHT
TZOFFSETFROM:+0100
TZOFFSETTO:+0200
TZNAME:CEST
DTSTART:20250330T010000
END:DAYLIGHT
BEGIN:STANDARD
TZOFFSETFROM:+0200
TZOFFSETTO:+0100
TZNAME:CET
DTSTART:20251026T010000
END:STANDARD
BEGIN:DAYLIGHT
TZOFFSETFROM:+0100
TZOFFSETTO:+0200
TZNAME:CEST
DTSTART:20260329T010000
END:DAYLIGHT
BEGIN:STANDARD
TZOFFSETFROM:+0200
TZOFFSETTO:+0100
TZNAME:CET
DTSTART:20261025T010000
END:STANDARD
BEGIN:DAYLIGHT
TZOFFSETFROM:+0100
TZOFFSETTO:+0200
TZNAME:CEST
DTSTART:20270328T010000
END:DAYLIGHT
BEGIN:STANDARD
TZOFFSETFROM:+0200
TZOFFSETTO:+0100
TZNAME:CET
DTSTART:20271031T010000
END:STANDARD
END:VTIMEZONE
BEGIN:VEVENT
DTSTART;TZID=Europe/Paris:20260423T160000
DTEND;TZID=Europe/Paris:20260423T173000
DTSTAMP:20260424T112306
CREATED:20260325T173427Z
LAST-MODIFIED:20260325T173427Z
UID:3372-1776960000-1776965400@eglisebblieusaint.com
SUMMARY:Visite hebdomadaire à la maison de retraite de St Pierre du Perray
DESCRIPTION:
URL:https://eglisebblieusaint.com/evenement/visite-hebdomadaire-a-la-maison-de-retraite-de-st-pierre-du-perray-58
LOCATION:Cedre Blue\, 12 Rue du Château\, Saint-Pierre-du-Perray\, 91280\, France
CATEGORIES:Visite à la maison de retraite
ATTACH;FMTTYPE=image/jpeg:https://eglisebblieusaint.com/wp-content/uploads/2026/01/PANO_20251106_174841-scaled.jpg
END:VEVENT
BEGIN:VEVENT
DTSTART;TZID=Europe/Paris:20260421T190000
DTEND;TZID=Europe/Paris:20260421T210000
DTSTAMP:20260424T112306
CREATED:20260325T170540Z
LAST-MODIFIED:20260325T170540Z
UID:3351-1776798000-1776805200@eglisebblieusaint.com
SUMMARY:Reunion de prière
DESCRIPTION:
URL:https://eglisebblieusaint.com/evenement/reunion-de-priere-64
LOCATION:Chez Whittaker
CATEGORIES:La prière
END:VEVENT
BEGIN:VEVENT
DTSTART;TZID=Europe/Paris:20260420T201500
DTEND;TZID=Europe/Paris:20260420T211500
DTSTAMP:20260424T112306
CREATED:20260325T170315Z
LAST-MODIFIED:20260325T170315Z
UID:3343-1776716100-1776719700@eglisebblieusaint.com
SUMMARY:Etude Biblique sur visio
DESCRIPTION:
URL:https://eglisebblieusaint.com/evenement/etude-biblique-sur-visio-7
CATEGORIES:Étude biblique
END:VEVENT
BEGIN:VEVENT
DTSTART;TZID=Europe/Paris:20260419T110000
DTEND;TZID=Europe/Paris:20260419T120000
DTSTAMP:20260424T112306
CREATED:20260325T170028Z
LAST-MODIFIED:20260325T170028Z
UID:3335-1776596400-1776600000@eglisebblieusaint.com
SUMMARY:Culte
DESCRIPTION:Nous louons Dieu ensemble dans des chants et une prédication.
URL:https://eglisebblieusaint.com/evenement/culte-63
LOCATION:Maison des Associations\, 5 Impasse du Moulin à Vent\, Lieusaint\, 77127
CATEGORIES:Culte
ATTACH;FMTTYPE=image/jpeg:https://eglisebblieusaint.com/wp-content/uploads/2024/11/459085170_10162107462520139_4420698929922000788_n.jpg
END:VEVENT
BEGIN:VEVENT
DTSTART;TZID=Europe/Paris:20260419T100000
DTEND;TZID=Europe/Paris:20260419T104500
DTSTAMP:20260424T112306
CREATED:20260325T165840Z
LAST-MODIFIED:20260325T165840Z
UID:3329-1776592800-1776595500@eglisebblieusaint.com
SUMMARY:Étude biblique
DESCRIPTION:
URL:https://eglisebblieusaint.com/evenement/etude-biblique-58
LOCATION:Maison des Associations\, 5 Impasse du Moulin à Vent\, Lieusaint\, 77127
CATEGORIES:Étude biblique
END:VEVENT
BEGIN:VEVENT
DTSTART;TZID=Europe/Paris:20260418T100000
DTEND;TZID=Europe/Paris:20260418T100000
DTSTAMP:20260424T112306
CREATED:20260325T172756Z
LAST-MODIFIED:20260325T172756Z
UID:3363-1776506400-1776506400@eglisebblieusaint.com
SUMMARY:Réunion d'hommes
DESCRIPTION:
URL:https://eglisebblieusaint.com/evenement/reunion-dhommes-3
CATEGORIES:Réunion des hommes
END:VEVENT
BEGIN:VEVENT
DTSTART;TZID=Europe/Paris:20260416T160000
DTEND;TZID=Europe/Paris:20260416T173000
DTSTAMP:20260424T112306
CREATED:20260325T173407Z
LAST-MODIFIED:20260325T173407Z
UID:3370-1776355200-1776360600@eglisebblieusaint.com
SUMMARY:Visite hebdomadaire à la maison de retraite de St Pierre du Perray
DESCRIPTION:
URL:https://eglisebblieusaint.com/evenement/visite-hebdomadaire-a-la-maison-de-retraite-de-st-pierre-du-perray-57
LOCATION:Cedre Blue\, 12 Rue du Château\, Saint-Pierre-du-Perray\, 91280\, France
CATEGORIES:Visite à la maison de retraite
ATTACH;FMTTYPE=image/jpeg:https://eglisebblieusaint.com/wp-content/uploads/2026/01/PANO_20251106_174841-scaled.jpg
END:VEVENT
BEGIN:VEVENT
DTSTART;TZID=Europe/Paris:20260414T190000
DTEND;TZID=Europe/Paris:20260414T210000
DTSTAMP:20260424T112306
CREATED:20260325T170513Z
LAST-MODIFIED:20260325T170513Z
UID:3349-1776193200-1776200400@eglisebblieusaint.com
SUMMARY:Reunion de prière
DESCRIPTION:
URL:https://eglisebblieusaint.com/evenement/reunion-de-priere-63
LOCATION:Chez Whittaker
CATEGORIES:La prière
END:VEVENT
BEGIN:VEVENT
DTSTART;TZID=Europe/Paris:20260413T201500
DTEND;TZID=Europe/Paris:20260413T211500
DTSTAMP:20260424T112306
CREATED:20260325T170258Z
LAST-MODIFIED:20260325T170258Z
UID:3341-1776111300-1776114900@eglisebblieusaint.com
SUMMARY:Etude Biblique sur visio
DESCRIPTION:
URL:https://eglisebblieusaint.com/evenement/etude-biblique-sur-visio-6
CATEGORIES:Étude biblique
END:VEVENT
BEGIN:VEVENT
DTSTART;TZID=Europe/Paris:20260412T110000
DTEND;TZID=Europe/Paris:20260412T120000
DTSTAMP:20260424T112306
CREATED:20260325T170009Z
LAST-MODIFIED:20260325T170009Z
UID:3333-1775991600-1775995200@eglisebblieusaint.com
SUMMARY:Culte
DESCRIPTION:Nous louons Dieu ensemble dans des chants et une prédication.
URL:https://eglisebblieusaint.com/evenement/culte-62
LOCATION:Maison des Associations\, 5 Impasse du Moulin à Vent\, Lieusaint\, 77127
CATEGORIES:Culte
ATTACH;FMTTYPE=image/jpeg:https://eglisebblieusaint.com/wp-content/uploads/2024/11/459085170_10162107462520139_4420698929922000788_n.jpg
END:VEVENT
BEGIN:VEVENT
DTSTART;TZID=Europe/Paris:20260412T100000
DTEND;TZID=Europe/Paris:20260412T104500
DTSTAMP:20260424T112306
CREATED:20260325T165734Z
LAST-MODIFIED:20260325T165734Z
UID:3327-1775988000-1775990700@eglisebblieusaint.com
SUMMARY:Étude biblique
DESCRIPTION:
URL:https://eglisebblieusaint.com/evenement/etude-biblique-57
LOCATION:Maison des Associations\, 5 Impasse du Moulin à Vent\, Lieusaint\, 77127
CATEGORIES:Étude biblique
END:VEVENT
BEGIN:VEVENT
DTSTART;TZID=Europe/Paris:20260411T160000
DTEND;TZID=Europe/Paris:20260411T170000
DTSTAMP:20260424T112306
CREATED:20260325T172657Z
LAST-MODIFIED:20260325T172657Z
UID:3361-1775923200-1775926800@eglisebblieusaint.com
SUMMARY:Kids Club
DESCRIPTION:
URL:https://eglisebblieusaint.com/evenement/kids-club-19
LOCATION:Chez Whittaker
CATEGORIES:Kid's club
END:VEVENT
BEGIN:VEVENT
DTSTART;TZID=Europe/Paris:20260410T190000
DTEND;TZID=Europe/Paris:20260410T210000
DTSTAMP:20260424T112306
CREATED:20260325T171144Z
LAST-MODIFIED:20260325T171144Z
UID:3359-1775847600-1775854800@eglisebblieusaint.com
SUMMARY:Club J. Adultes
DESCRIPTION:Soirée mexicaine
URL:https://eglisebblieusaint.com/evenement/club-j-adultes
CATEGORIES:Jeunes adultes
END:VEVENT
BEGIN:VEVENT
DTSTART;TZID=Europe/Paris:20260409T160000
DTEND;TZID=Europe/Paris:20260409T173000
DTSTAMP:20260424T112306
CREATED:20260325T173340Z
LAST-MODIFIED:20260325T173340Z
UID:3368-1775750400-1775755800@eglisebblieusaint.com
SUMMARY:Visite hebdomadaire à la maison de retraite de St Pierre du Perray
DESCRIPTION:
URL:https://eglisebblieusaint.com/evenement/visite-hebdomadaire-a-la-maison-de-retraite-de-st-pierre-du-perray-56
LOCATION:Cedre Blue\, 12 Rue du Château\, Saint-Pierre-du-Perray\, 91280\, France
CATEGORIES:Visite à la maison de retraite
ATTACH;FMTTYPE=image/jpeg:https://eglisebblieusaint.com/wp-content/uploads/2026/01/PANO_20251106_174841-scaled.jpg
END:VEVENT
BEGIN:VEVENT
DTSTART;TZID=Europe/Paris:20260407T190000
DTEND;TZID=Europe/Paris:20260407T210000
DTSTAMP:20260424T112306
CREATED:20260325T170454Z
LAST-MODIFIED:20260325T170454Z
UID:3347-1775588400-1775595600@eglisebblieusaint.com
SUMMARY:Reunion de prière
DESCRIPTION:
URL:https://eglisebblieusaint.com/evenement/reunion-de-priere-62
LOCATION:Chez Whittaker
CATEGORIES:La prière
END:VEVENT
BEGIN:VEVENT
DTSTART;TZID=Europe/Paris:20260406T201500
DTEND;TZID=Europe/Paris:20260406T211500
DTSTAMP:20260424T112306
CREATED:20260325T170241Z
LAST-MODIFIED:20260325T170241Z
UID:3339-1775506500-1775510100@eglisebblieusaint.com
SUMMARY:Etude Biblique sur visio
DESCRIPTION:
URL:https://eglisebblieusaint.com/evenement/etude-biblique-sur-visio-5
CATEGORIES:Étude biblique
END:VEVENT
BEGIN:VEVENT
DTSTART;TZID=Europe/Paris:20260405T103000
DTEND;TZID=Europe/Paris:20260405T120000
DTSTAMP:20260424T112306
CREATED:20260228T152515Z
LAST-MODIFIED:20260325T173117Z
UID:3261-1775385000-1775390400@eglisebblieusaint.com
SUMMARY:PÂQUES ( Apèro après )
DESCRIPTION:
URL:https://eglisebblieusaint.com/evenement/etude-biblique-56
LOCATION:Maison des Associations\, 5 Impasse du Moulin à Vent\, Lieusaint\, 77127
END:VEVENT
BEGIN:VEVENT
DTSTART;TZID=Europe/Paris:20260403T200000
DTEND;TZID=Europe/Paris:20260403T220000
DTSTAMP:20260424T112306
CREATED:20260325T170906Z
LAST-MODIFIED:20260325T170906Z
UID:3357-1775246400-1775253600@eglisebblieusaint.com
SUMMARY:Soirée jeux
DESCRIPTION:
URL:https://eglisebblieusaint.com/evenement/soiree-jeux
END:VEVENT
BEGIN:VEVENT
DTSTART;TZID=Europe/Paris:20260403T190000
DTEND;TZID=Europe/Paris:20260403T190000
DTSTAMP:20260424T112306
CREATED:20260325T170756Z
LAST-MODIFIED:20260325T170756Z
UID:3355-1775242800-1775242800@eglisebblieusaint.com
SUMMARY:St. Cène
DESCRIPTION:
URL:https://eglisebblieusaint.com/evenement/st-cene
CATEGORIES:La sainte cène
END:VEVENT
BEGIN:VEVENT
DTSTART;TZID=Europe/Paris:20260402T160000
DTEND;TZID=Europe/Paris:20260402T173000
DTSTAMP:20260424T112306
CREATED:20260228T154046Z
LAST-MODIFIED:20260228T154046Z
UID:3265-1775145600-1775151000@eglisebblieusaint.com
SUMMARY:Visite hebdomadaire à la maison de retraite de St Pierre du Perray
DESCRIPTION:
URL:https://eglisebblieusaint.com/evenement/visite-hebdomadaire-a-la-maison-de-retraite-de-st-pierre-du-perray-55
LOCATION:Cedre Blue\, 12 Rue du Château\, Saint-Pierre-du-Perray\, 91280\, France
CATEGORIES:Visite à la maison de retraite
ATTACH;FMTTYPE=image/jpeg:https://eglisebblieusaint.com/wp-content/uploads/2026/01/PANO_20251106_174841-scaled.jpg
END:VEVENT
BEGIN:VEVENT
DTSTART;TZID=Europe/Paris:20260331T190000
DTEND;TZID=Europe/Paris:20260331T210000
DTSTAMP:20260424T112306
CREATED:20260228T133508Z
LAST-MODIFIED:20260228T133508Z
UID:3245-1774983600-1774990800@eglisebblieusaint.com
SUMMARY:Reunion de prière
DESCRIPTION:
URL:https://eglisebblieusaint.com/evenement/reunion-de-priere-61
LOCATION:Chez Whittaker
CATEGORIES:La prière
END:VEVENT
BEGIN:VEVENT
DTSTART;TZID=Europe/Paris:20260330T201500
DTEND;TZID=Europe/Paris:20260330T211500
DTSTAMP:20260424T112306
CREATED:20260228T133018Z
LAST-MODIFIED:20260228T133018Z
UID:3234-1774901700-1774905300@eglisebblieusaint.com
SUMMARY:Etude Biblique sur visio
DESCRIPTION:
URL:https://eglisebblieusaint.com/evenement/etude-biblique-sur-visio-4
CATEGORIES:Étude biblique
END:VEVENT
BEGIN:VEVENT
DTSTART;TZID=Europe/Paris:20260329T110000
DTEND;TZID=Europe/Paris:20260329T120000
DTSTAMP:20260424T112306
CREATED:20260228T130052Z
LAST-MODIFIED:20260228T130052Z
UID:3206-1774782000-1774785600@eglisebblieusaint.com
SUMMARY:Culte
DESCRIPTION:Nous louons Dieu ensemble dans des chants et une prédication.
URL:https://eglisebblieusaint.com/evenement/culte-60
LOCATION:Maison des Associations\, 5 Impasse du Moulin à Vent\, Lieusaint\, 77127
CATEGORIES:Culte
ATTACH;FMTTYPE=image/jpeg:https://eglisebblieusaint.com/wp-content/uploads/2024/11/459085170_10162107462520139_4420698929922000788_n.jpg
END:VEVENT
BEGIN:VEVENT
DTSTART;TZID=Europe/Paris:20260329T100000
DTEND;TZID=Europe/Paris:20260329T110000
DTSTAMP:20260424T112306
CREATED:20260228T131733Z
LAST-MODIFIED:20260228T131733Z
UID:3222-1774778400-1774782000@eglisebblieusaint.com
SUMMARY:Répitition Pâques
DESCRIPTION:
URL:https://eglisebblieusaint.com/evenement/repitition-paques-3
CATEGORIES:Chorale
END:VEVENT
BEGIN:VEVENT
DTSTART;TZID=Europe/Paris:20260329T100000
DTEND;TZID=Europe/Paris:20260329T104500
DTSTAMP:20260424T112306
CREATED:20260228T130412Z
LAST-MODIFIED:20260228T130412Z
UID:3214-1774778400-1774781100@eglisebblieusaint.com
SUMMARY:Étude biblique
DESCRIPTION:
URL:https://eglisebblieusaint.com/evenement/etude-biblique-55
LOCATION:Maison des Associations\, 5 Impasse du Moulin à Vent\, Lieusaint\, 77127
CATEGORIES:Étude biblique
END:VEVENT
BEGIN:VEVENT
DTSTART;TZID=Europe/Paris:20260328T150000
DTEND;TZID=Europe/Paris:20260328T170000
DTSTAMP:20260424T112306
CREATED:20260228T152243Z
LAST-MODIFIED:20260228T152354Z
UID:3259-1774710000-1774717200@eglisebblieusaint.com
SUMMARY:KIDS CLUB Chasse aux oeufs PAQUES
DESCRIPTION:
URL:https://eglisebblieusaint.com/evenement/kids-club-chasse-aux-oeufs-paques
CATEGORIES:Kid's club
END:VEVENT
BEGIN:VEVENT
DTSTART;TZID=Europe/Paris:20260326T160000
DTEND;TZID=Europe/Paris:20260326T173000
DTSTAMP:20260424T112306
CREATED:20260228T151908Z
LAST-MODIFIED:20260228T151908Z
UID:3253-1774540800-1774546200@eglisebblieusaint.com
SUMMARY:Visite hebdomadaire à la maison de retraite de St Pierre du Perray
DESCRIPTION:
URL:https://eglisebblieusaint.com/evenement/visite-hebdomadaire-a-la-maison-de-retraite-de-st-pierre-du-perray-54
LOCATION:Cedre Blue\, 12 Rue du Château\, Saint-Pierre-du-Perray\, 91280\, France
CATEGORIES:Visite à la maison de retraite
ATTACH;FMTTYPE=image/jpeg:https://eglisebblieusaint.com/wp-content/uploads/2026/01/PANO_20251106_174841-scaled.jpg
END:VEVENT
BEGIN:VEVENT
DTSTART;TZID=Europe/Paris:20260324T190000
DTEND;TZID=Europe/Paris:20260324T210000
DTSTAMP:20260424T112306
CREATED:20260228T133431Z
LAST-MODIFIED:20260228T133431Z
UID:3243-1774378800-1774386000@eglisebblieusaint.com
SUMMARY:Reunion de prière
DESCRIPTION:
URL:https://eglisebblieusaint.com/evenement/reunion-de-priere-60
LOCATION:Chez Auterson
CATEGORIES:La prière
END:VEVENT
BEGIN:VEVENT
DTSTART;TZID=Europe/Paris:20260323T201500
DTEND;TZID=Europe/Paris:20260323T211500
DTSTAMP:20260424T112306
CREATED:20260228T132954Z
LAST-MODIFIED:20260228T132954Z
UID:3232-1774296900-1774300500@eglisebblieusaint.com
SUMMARY:Etude Biblique sur visio
DESCRIPTION:
URL:https://eglisebblieusaint.com/evenement/etude-biblique-sur-visio-3
CATEGORIES:Étude biblique
END:VEVENT
BEGIN:VEVENT
DTSTART;TZID=Europe/Paris:20260322T110000
DTEND;TZID=Europe/Paris:20260322T120000
DTSTAMP:20260424T112306
CREATED:20260228T130019Z
LAST-MODIFIED:20260228T130019Z
UID:3204-1774177200-1774180800@eglisebblieusaint.com
SUMMARY:Culte
DESCRIPTION:Nous louons Dieu ensemble dans des chants et une prédication.
URL:https://eglisebblieusaint.com/evenement/culte-59
LOCATION:Maison des Associations\, 5 Impasse du Moulin à Vent\, Lieusaint\, 77127
CATEGORIES:Culte
ATTACH;FMTTYPE=image/jpeg:https://eglisebblieusaint.com/wp-content/uploads/2024/11/459085170_10162107462520139_4420698929922000788_n.jpg
END:VEVENT
END:VCALENDAR