BEGIN:VCALENDAR
VERSION:2.0
PRODID:-//Eglise Biblique Baptiste de Lieusaint - ECPv6.15.11//NONSGML v1.0//EN
CALSCALE:GREGORIAN
METHOD:PUBLISH
X-ORIGINAL-URL:https://eglisebblieusaint.com
X-WR-CALDESC:Évènements pour Eglise Biblique Baptiste de Lieusaint
REFRESH-INTERVAL;VALUE=DURATION:PT1H
X-Robots-Tag:noindex
X-PUBLISHED-TTL:PT1H
BEGIN:VTIMEZONE
TZID:Europe/Paris
BEGIN:DAYLIGHT
TZOFFSETFROM:+0100
TZOFFSETTO:+0200
TZNAME:CEST
DTSTART:20230326T010000
END:DAYLIGHT
BEGIN:STANDARD
TZOFFSETFROM:+0200
TZOFFSETTO:+0100
TZNAME:CET
DTSTART:20231029T010000
END:STANDARD
BEGIN:DAYLIGHT
TZOFFSETFROM:+0100
TZOFFSETTO:+0200
TZNAME:CEST
DTSTART:20240331T010000
END:DAYLIGHT
BEGIN:STANDARD
TZOFFSETFROM:+0200
TZOFFSETTO:+0100
TZNAME:CET
DTSTART:20241027T010000
END:STANDARD
BEGIN:DAYLIGHT
TZOFFSETFROM:+0100
TZOFFSETTO:+0200
TZNAME:CEST
DTSTART:20250330T010000
END:DAYLIGHT
BEGIN:STANDARD
TZOFFSETFROM:+0200
TZOFFSETTO:+0100
TZNAME:CET
DTSTART:20251026T010000
END:STANDARD
END:VTIMEZONE
BEGIN:VTIMEZONE
TZID:UTC
BEGIN:STANDARD
TZOFFSETFROM:+0000
TZOFFSETTO:+0000
TZNAME:UTC
DTSTART:20230101T000000
END:STANDARD
END:VTIMEZONE
BEGIN:VEVENT
DTSTART;TZID=Europe/Paris:20241102T150000
DTEND;TZID=Europe/Paris:20241102T170000
DTSTAMP:20260424T112302
CREATED:20241102T092510Z
LAST-MODIFIED:20241102T093214Z
UID:1354-1730559600-1730566800@eglisebblieusaint.com
SUMMARY:Kid's club
DESCRIPTION:
URL:https://eglisebblieusaint.com/evenement/kids-club
LOCATION:Chez Auterson
CATEGORIES:Kid's club
END:VEVENT
BEGIN:VEVENT
DTSTART;TZID=Europe/Paris:20241103T100000
DTEND;TZID=Europe/Paris:20241103T104500
DTSTAMP:20260424T112302
CREATED:20241102T144552Z
LAST-MODIFIED:20241102T144552Z
UID:1369-1730628000-1730630700@eglisebblieusaint.com
SUMMARY:Étude biblique
DESCRIPTION:
URL:https://eglisebblieusaint.com/evenement/etude-biblique
LOCATION:Maison des Associations\, 5 Impasse du Moulin à Vent\, Lieusaint\, 77127
CATEGORIES:Étude biblique
END:VEVENT
BEGIN:VEVENT
DTSTART;TZID=Europe/Paris:20241103T110000
DTEND;TZID=Europe/Paris:20241103T123000
DTSTAMP:20260424T112302
CREATED:20241102T145615Z
LAST-MODIFIED:20241102T145825Z
UID:1372-1730631600-1730637000@eglisebblieusaint.com
SUMMARY:Culte
DESCRIPTION:Nous louons Dieu ensemble dans des chants et une prédication.
URL:https://eglisebblieusaint.com/evenement/culte
LOCATION:Maison des Associations\, 5 Impasse du Moulin à Vent\, Lieusaint\, 77127
CATEGORIES:Culte
ATTACH;FMTTYPE=image/jpeg:https://eglisebblieusaint.com/wp-content/uploads/2024/11/459085170_10162107462520139_4420698929922000788_n.jpg
END:VEVENT
BEGIN:VEVENT
DTSTART;TZID=Europe/Paris:20241105T190000
DTEND;TZID=Europe/Paris:20241105T210000
DTSTAMP:20260424T112302
CREATED:20241102T091859Z
LAST-MODIFIED:20241102T092618Z
UID:1349-1730833200-1730840400@eglisebblieusaint.com
SUMMARY:Reunion de prière
DESCRIPTION:
URL:https://eglisebblieusaint.com/evenement/la-reunion-de-priere
LOCATION:Chez Whittaker
CATEGORIES:La prière
END:VEVENT
BEGIN:VEVENT
DTSTART;TZID=Europe/Paris:20241107T160000
DTEND;TZID=Europe/Paris:20241107T173000
DTSTAMP:20260424T112302
CREATED:20241104T102104Z
LAST-MODIFIED:20241104T102104Z
UID:1407-1730995200-1731000600@eglisebblieusaint.com
SUMMARY:Visite hebdomadaire à la maison de retraite de St Pierre du Perray
DESCRIPTION:
URL:https://eglisebblieusaint.com/evenement/visite-hebdomadaire-a-la-maison-de-retraite-de-st-pierre-du-perray
LOCATION:Cedre Blue\, 12 Rue du Château\, Saint-Pierre-du-Perray\, 91280\, France
CATEGORIES:Visite à la maison de retraite
ATTACH;FMTTYPE=image/jpeg:https://eglisebblieusaint.com/wp-content/uploads/2024/11/CedreBleu-scaled.jpg
END:VEVENT
BEGIN:VEVENT
DTSTART;TZID=UTC:20241109T163000
DTEND;TZID=UTC:20241109T181500
DTSTAMP:20260424T112302
CREATED:20241102T092921Z
LAST-MODIFIED:20241102T104659Z
UID:1358-1731169800-1731176100@eglisebblieusaint.com
SUMMARY:Kid's club
DESCRIPTION:
URL:https://eglisebblieusaint.com/evenement/kids-club-2
LOCATION:Chez Whittaker
CATEGORIES:Kid's club
END:VEVENT
BEGIN:VEVENT
DTSTART;TZID=Europe/Paris:20241110T100000
DTEND;TZID=Europe/Paris:20241110T104500
DTSTAMP:20260424T112302
CREATED:20241102T150644Z
LAST-MODIFIED:20241102T150644Z
UID:1382-1731232800-1731235500@eglisebblieusaint.com
SUMMARY:Étude biblique
DESCRIPTION:
URL:https://eglisebblieusaint.com/evenement/etude-biblique-2
LOCATION:Maison des Associations\, 5 Impasse du Moulin à Vent\, Lieusaint\, 77127
CATEGORIES:Étude biblique
END:VEVENT
BEGIN:VEVENT
DTSTART;TZID=Europe/Paris:20241110T110000
DTEND;TZID=Europe/Paris:20241110T123000
DTSTAMP:20260424T112302
CREATED:20241102T150459Z
LAST-MODIFIED:20241102T150459Z
UID:1376-1731236400-1731241800@eglisebblieusaint.com
SUMMARY:Culte
DESCRIPTION:Nous louons Dieu ensemble dans des chants et une prédication.
URL:https://eglisebblieusaint.com/evenement/culte-2
LOCATION:Maison des Associations\, 5 Impasse du Moulin à Vent\, Lieusaint\, 77127
CATEGORIES:Culte
ATTACH;FMTTYPE=image/jpeg:https://eglisebblieusaint.com/wp-content/uploads/2024/11/459085170_10162107462520139_4420698929922000788_n.jpg
END:VEVENT
BEGIN:VEVENT
DTSTART;TZID=Europe/Paris:20241112T190000
DTEND;TZID=Europe/Paris:20241112T210000
DTSTAMP:20260424T112302
CREATED:20241102T151806Z
LAST-MODIFIED:20241102T151806Z
UID:1388-1731438000-1731445200@eglisebblieusaint.com
SUMMARY:Reunion de prière
DESCRIPTION:
URL:https://eglisebblieusaint.com/evenement/reunion-de-priere
LOCATION:Chez Auterson
CATEGORIES:La prière
END:VEVENT
BEGIN:VEVENT
DTSTART;TZID=Europe/Paris:20241116T100000
DTEND;TZID=Europe/Paris:20241116T100000
DTSTAMP:20260424T112302
CREATED:20241102T153137Z
LAST-MODIFIED:20241104T102857Z
UID:1401-1731751200-1731751200@eglisebblieusaint.com
SUMMARY:Réunion des hommes
DESCRIPTION:
URL:https://eglisebblieusaint.com/evenement/reunion-des-hommes
CATEGORIES:Réunion des hommes
END:VEVENT
BEGIN:VEVENT
DTSTART;TZID=Europe/Paris:20241117T100000
DTEND;TZID=Europe/Paris:20241117T104500
DTSTAMP:20260424T112302
CREATED:20241102T150703Z
LAST-MODIFIED:20241102T150703Z
UID:1384-1731837600-1731840300@eglisebblieusaint.com
SUMMARY:Étude biblique
DESCRIPTION:
URL:https://eglisebblieusaint.com/evenement/etude-biblique-3
LOCATION:Maison des Associations\, 5 Impasse du Moulin à Vent\, Lieusaint\, 77127
CATEGORIES:Étude biblique
END:VEVENT
BEGIN:VEVENT
DTSTART;TZID=Europe/Paris:20241117T110000
DTEND;TZID=Europe/Paris:20241117T123000
DTSTAMP:20260424T112302
CREATED:20241102T150524Z
LAST-MODIFIED:20241102T150524Z
UID:1378-1731841200-1731846600@eglisebblieusaint.com
SUMMARY:Culte
DESCRIPTION:Nous louons Dieu ensemble dans des chants et une prédication.
URL:https://eglisebblieusaint.com/evenement/culte-3
LOCATION:Maison des Associations\, 5 Impasse du Moulin à Vent\, Lieusaint\, 77127
CATEGORIES:Culte
ATTACH;FMTTYPE=image/jpeg:https://eglisebblieusaint.com/wp-content/uploads/2024/11/459085170_10162107462520139_4420698929922000788_n.jpg
END:VEVENT
BEGIN:VEVENT
DTSTART;TZID=Europe/Paris:20241119T190000
DTEND;TZID=Europe/Paris:20241119T210000
DTSTAMP:20260424T112302
CREATED:20241102T151832Z
LAST-MODIFIED:20241110T143521Z
UID:1390-1732042800-1732050000@eglisebblieusaint.com
SUMMARY:Reunion de prière
DESCRIPTION:
URL:https://eglisebblieusaint.com/evenement/reunion-de-priere-2
LOCATION:Chez Auterson
CATEGORIES:La prière
END:VEVENT
BEGIN:VEVENT
DTSTART;TZID=Europe/Paris:20241123T160000
DTEND;TZID=Europe/Paris:20241123T160000
DTSTAMP:20260424T112302
CREATED:20241102T152137Z
LAST-MODIFIED:20241102T154127Z
UID:1394-1732377600-1732377600@eglisebblieusaint.com
SUMMARY:Réunion des femmes
DESCRIPTION:
URL:https://eglisebblieusaint.com/evenement/reunion-de-femmes
CATEGORIES:Réunion des femmes
ATTACH;FMTTYPE=image/jpeg:https://eglisebblieusaint.com/wp-content/uploads/2024/11/20240622_210541-scaled.jpg
END:VEVENT
BEGIN:VEVENT
DTSTART;TZID=Europe/Paris:20241124T100000
DTEND;TZID=Europe/Paris:20241124T104500
DTSTAMP:20260424T112302
CREATED:20241102T150718Z
LAST-MODIFIED:20241102T150724Z
UID:1386-1732442400-1732445100@eglisebblieusaint.com
SUMMARY:Étude biblique
DESCRIPTION:
URL:https://eglisebblieusaint.com/evenement/etude-biblique-4
LOCATION:Maison des Associations\, 5 Impasse du Moulin à Vent\, Lieusaint\, 77127
CATEGORIES:Étude biblique
END:VEVENT
BEGIN:VEVENT
DTSTART;TZID=Europe/Paris:20241124T110000
DTEND;TZID=Europe/Paris:20241124T123000
DTSTAMP:20260424T112302
CREATED:20241102T150549Z
LAST-MODIFIED:20241102T150549Z
UID:1380-1732446000-1732451400@eglisebblieusaint.com
SUMMARY:Culte
DESCRIPTION:Nous louons Dieu ensemble dans des chants et une prédication.
URL:https://eglisebblieusaint.com/evenement/culte-4
LOCATION:Maison des Associations\, 5 Impasse du Moulin à Vent\, Lieusaint\, 77127
CATEGORIES:Culte
ATTACH;FMTTYPE=image/jpeg:https://eglisebblieusaint.com/wp-content/uploads/2024/11/459085170_10162107462520139_4420698929922000788_n.jpg
END:VEVENT
BEGIN:VEVENT
DTSTART;TZID=Europe/Paris:20241126T190000
DTEND;TZID=Europe/Paris:20241126T210000
DTSTAMP:20260424T112302
CREATED:20241102T151912Z
LAST-MODIFIED:20241102T151912Z
UID:1392-1732647600-1732654800@eglisebblieusaint.com
SUMMARY:Reunion de prière
DESCRIPTION:
URL:https://eglisebblieusaint.com/evenement/reunion-de-priere-3
LOCATION:Chez Auterson
CATEGORIES:La prière
END:VEVENT
END:VCALENDAR