BEGIN:VCALENDAR
VERSION:2.0
PRODID:-//Eglise Biblique Baptiste de Lieusaint - ECPv6.15.11//NONSGML v1.0//EN
CALSCALE:GREGORIAN
METHOD:PUBLISH
X-ORIGINAL-URL:https://eglisebblieusaint.com
X-WR-CALDESC:Évènements pour Eglise Biblique Baptiste de Lieusaint
REFRESH-INTERVAL;VALUE=DURATION:PT1H
X-Robots-Tag:noindex
X-PUBLISHED-TTL:PT1H
BEGIN:VTIMEZONE
TZID:Europe/Paris
BEGIN:DAYLIGHT
TZOFFSETFROM:+0100
TZOFFSETTO:+0200
TZNAME:CEST
DTSTART:20230326T010000
END:DAYLIGHT
BEGIN:STANDARD
TZOFFSETFROM:+0200
TZOFFSETTO:+0100
TZNAME:CET
DTSTART:20231029T010000
END:STANDARD
BEGIN:DAYLIGHT
TZOFFSETFROM:+0100
TZOFFSETTO:+0200
TZNAME:CEST
DTSTART:20240331T010000
END:DAYLIGHT
BEGIN:STANDARD
TZOFFSETFROM:+0200
TZOFFSETTO:+0100
TZNAME:CET
DTSTART:20241027T010000
END:STANDARD
BEGIN:DAYLIGHT
TZOFFSETFROM:+0100
TZOFFSETTO:+0200
TZNAME:CEST
DTSTART:20250330T010000
END:DAYLIGHT
BEGIN:STANDARD
TZOFFSETFROM:+0200
TZOFFSETTO:+0100
TZNAME:CET
DTSTART:20251026T010000
END:STANDARD
END:VTIMEZONE
BEGIN:VTIMEZONE
TZID:UTC
BEGIN:STANDARD
TZOFFSETFROM:+0000
TZOFFSETTO:+0000
TZNAME:UTC
DTSTART:20230101T000000
END:STANDARD
END:VTIMEZONE
BEGIN:VEVENT
DTSTART;TZID=Europe/Paris:20241201T100000
DTEND;TZID=Europe/Paris:20241201T104500
DTSTAMP:20260424T095754
CREATED:20241124T111609Z
LAST-MODIFIED:20241124T111609Z
UID:1514-1733047200-1733049900@eglisebblieusaint.com
SUMMARY:Étude biblique
DESCRIPTION:
URL:https://eglisebblieusaint.com/evenement/etude-biblique-5
LOCATION:Maison des Associations\, 5 Impasse du Moulin à Vent\, Lieusaint\, 77127
CATEGORIES:Étude biblique
END:VEVENT
BEGIN:VEVENT
DTSTART;TZID=Europe/Paris:20241201T110000
DTEND;TZID=Europe/Paris:20241201T123000
DTSTAMP:20260424T095754
CREATED:20241124T111459Z
LAST-MODIFIED:20241124T111459Z
UID:1512-1733050800-1733056200@eglisebblieusaint.com
SUMMARY:Culte
DESCRIPTION:Nous louons Dieu ensemble dans des chants et une prédication.
URL:https://eglisebblieusaint.com/evenement/culte-5
LOCATION:Maison des Associations\, 5 Impasse du Moulin à Vent\, Lieusaint\, 77127
CATEGORIES:Culte
ATTACH;FMTTYPE=image/jpeg:https://eglisebblieusaint.com/wp-content/uploads/2024/11/459085170_10162107462520139_4420698929922000788_n.jpg
END:VEVENT
BEGIN:VEVENT
DTSTART;TZID=Europe/Paris:20241203T190000
DTEND;TZID=Europe/Paris:20241203T210000
DTSTAMP:20260424T095754
CREATED:20241124T120340Z
LAST-MODIFIED:20241124T120340Z
UID:1540-1733252400-1733259600@eglisebblieusaint.com
SUMMARY:Reunion de prière
DESCRIPTION:
URL:https://eglisebblieusaint.com/evenement/reunion-de-priere-5
LOCATION:Chez Whittaker
CATEGORIES:La prière
END:VEVENT
BEGIN:VEVENT
DTSTART;TZID=UTC:20241207T150000
DTEND;TZID=UTC:20241207T181500
DTSTAMP:20260424T095754
CREATED:20241124T114535Z
LAST-MODIFIED:20241124T114742Z
UID:1530-1733583600-1733595300@eglisebblieusaint.com
SUMMARY:Kid's club
DESCRIPTION:
URL:https://eglisebblieusaint.com/evenement/kids-club-3
LOCATION:Chez Auterson
CATEGORIES:Kid's club
END:VEVENT
BEGIN:VEVENT
DTSTART;TZID=Europe/Paris:20241207T160000
DTEND;TZID=Europe/Paris:20241207T173000
DTSTAMP:20260424T095754
CREATED:20241124T114951Z
LAST-MODIFIED:20241124T114951Z
UID:1533-1733587200-1733592600@eglisebblieusaint.com
SUMMARY:Chants de Noël à St Pierre du Perray
DESCRIPTION:
URL:https://eglisebblieusaint.com/evenement/chants-de-noel-a-st-pierre-du-perray
END:VEVENT
BEGIN:VEVENT
DTSTART;TZID=Europe/Paris:20241208T100000
DTEND;TZID=Europe/Paris:20241208T104500
DTSTAMP:20260424T095754
CREATED:20241124T111651Z
LAST-MODIFIED:20241124T111651Z
UID:1516-1733652000-1733654700@eglisebblieusaint.com
SUMMARY:Étude biblique
DESCRIPTION:
URL:https://eglisebblieusaint.com/evenement/etude-biblique-6
LOCATION:Maison des Associations\, 5 Impasse du Moulin à Vent\, Lieusaint\, 77127
CATEGORIES:Étude biblique
END:VEVENT
BEGIN:VEVENT
DTSTART;TZID=Europe/Paris:20241208T110000
DTEND;TZID=Europe/Paris:20241208T123000
DTSTAMP:20260424T095754
CREATED:20241124T111732Z
LAST-MODIFIED:20241124T111732Z
UID:1518-1733655600-1733661000@eglisebblieusaint.com
SUMMARY:Culte
DESCRIPTION:Nous louons Dieu ensemble dans des chants et une prédication.
URL:https://eglisebblieusaint.com/evenement/culte-6
LOCATION:Maison des Associations\, 5 Impasse du Moulin à Vent\, Lieusaint\, 77127
CATEGORIES:Culte
ATTACH;FMTTYPE=image/jpeg:https://eglisebblieusaint.com/wp-content/uploads/2024/11/459085170_10162107462520139_4420698929922000788_n.jpg
END:VEVENT
BEGIN:VEVENT
DTSTART;TZID=Europe/Paris:20241210T190000
DTEND;TZID=Europe/Paris:20241210T210000
DTSTAMP:20260424T095754
CREATED:20241124T120619Z
LAST-MODIFIED:20241124T120619Z
UID:1539-1733857200-1733864400@eglisebblieusaint.com
SUMMARY:Reunion de prière
DESCRIPTION:
URL:https://eglisebblieusaint.com/evenement/reunion-de-priere-6
LOCATION:Chez Auterson
CATEGORIES:La prière
END:VEVENT
BEGIN:VEVENT
DTSTART;TZID=UTC:20241214T163000
DTEND;TZID=UTC:20241214T181500
DTSTAMP:20260424T095754
CREATED:20241124T115443Z
LAST-MODIFIED:20241124T120021Z
UID:1537-1734193800-1734200100@eglisebblieusaint.com
SUMMARY:Club collégiens
DESCRIPTION:
URL:https://eglisebblieusaint.com/evenement/club-collegiens
LOCATION:Chez Whittaker
CATEGORIES:Club collégiens
END:VEVENT
BEGIN:VEVENT
DTSTART;TZID=Europe/Paris:20241214T164500
DTEND;TZID=Europe/Paris:20241214T190000
DTSTAMP:20260424T095754
CREATED:20241124T115207Z
LAST-MODIFIED:20241124T115207Z
UID:1535-1734194700-1734202800@eglisebblieusaint.com
SUMMARY:Répetition et cookies ( Jeune adultes )
DESCRIPTION:
URL:https://eglisebblieusaint.com/evenement/repetition-et-cookies-jeune-adultes
CATEGORIES:Jeunes adultes
END:VEVENT
BEGIN:VEVENT
DTSTART;TZID=Europe/Paris:20241215T093000
DTEND;TZID=Europe/Paris:20241215T103000
DTSTAMP:20260424T095754
CREATED:20241124T113956Z
LAST-MODIFIED:20241127T155211Z
UID:1526-1734255000-1734258600@eglisebblieusaint.com
SUMMARY:Répetition
DESCRIPTION:
URL:https://eglisebblieusaint.com/evenement/repetition
LOCATION:Maison des Associations\, 5 Impasse du Moulin à Vent\, Lieusaint\, 77127
END:VEVENT
BEGIN:VEVENT
DTSTART;TZID=Europe/Paris:20241215T100000
DTEND;TZID=Europe/Paris:20241215T104500
DTSTAMP:20260424T095754
CREATED:20241124T114143Z
LAST-MODIFIED:20241127T155111Z
UID:1528-1734256800-1734259500@eglisebblieusaint.com
SUMMARY:Reunion de prière
DESCRIPTION:
URL:https://eglisebblieusaint.com/evenement/reunion-de-priere-4
LOCATION:Maison des Associations\, 5 Impasse du Moulin à Vent\, Lieusaint\, 77127
CATEGORIES:La prière
END:VEVENT
BEGIN:VEVENT
DTSTART;TZID=Europe/Paris:20241215T110000
DTEND;TZID=Europe/Paris:20241215T123000
DTSTAMP:20260424T095754
CREATED:20241120T095557Z
LAST-MODIFIED:20241208T141808Z
UID:1504-1734260400-1734265800@eglisebblieusaint.com
SUMMARY:Programme de Noël suivi par apéro | Joyeux Noël !
DESCRIPTION: \nL’Eglise Biblique Baptiste de Lieusaint vous invite à fêter Noël avec nous le dimanche 15 décembre 2024 à 11h à la\nMaison des Associations\n5 Impasse du Moulin à Vent\n77127  Lieusaint\n\nCélébration de la naissance de Jésus avec :\n– Musique spéciale\n– Sketch de Noël\n– Une nativité vivante\n– Des Chants de Noël\n– Bricolage pour les enfants\n– Programme suivi par un buffet apéritif\nPlus d’information : https://EgliseBBLieusaint.com/Noel2024
URL:https://eglisebblieusaint.com/evenement/joyeux-noel
LOCATION:Maison des Associations\, 5 Impasse du Moulin à Vent\, Lieusaint\, 77127
CATEGORIES:Culte
ATTACH;FMTTYPE=image/jpeg:https://eglisebblieusaint.com/wp-content/uploads/2024/12/ChristmasCardFront.jpg
END:VEVENT
BEGIN:VEVENT
DTSTART;TZID=Europe/Paris:20241217T190000
DTEND;TZID=Europe/Paris:20241217T210000
DTSTAMP:20260424T095754
CREATED:20241124T120744Z
LAST-MODIFIED:20241124T120744Z
UID:1543-1734462000-1734469200@eglisebblieusaint.com
SUMMARY:Reunion de prière
DESCRIPTION:
URL:https://eglisebblieusaint.com/evenement/reunion-de-priere-7
LOCATION:Chez Whittaker
CATEGORIES:La prière
END:VEVENT
BEGIN:VEVENT
DTSTART;TZID=Europe/Paris:20241222T100000
DTEND;TZID=Europe/Paris:20241222T104500
DTSTAMP:20260424T095754
CREATED:20241124T111833Z
LAST-MODIFIED:20241124T111833Z
UID:1520-1734861600-1734864300@eglisebblieusaint.com
SUMMARY:Étude biblique
DESCRIPTION:
URL:https://eglisebblieusaint.com/evenement/etude-biblique-7
LOCATION:Maison des Associations\, 5 Impasse du Moulin à Vent\, Lieusaint\, 77127
CATEGORIES:Étude biblique
END:VEVENT
BEGIN:VEVENT
DTSTART;TZID=Europe/Paris:20241222T110000
DTEND;TZID=Europe/Paris:20241222T110000
DTSTAMP:20260424T095754
CREATED:20241124T111945Z
LAST-MODIFIED:20241124T111945Z
UID:1524-1734865200-1734865200@eglisebblieusaint.com
SUMMARY:Culte
DESCRIPTION:Nous louons Dieu ensemble dans des chants et une prédication.
URL:https://eglisebblieusaint.com/evenement/culte-8
LOCATION:Maison des Associations\, 5 Impasse du Moulin à Vent\, Lieusaint\, 77127
CATEGORIES:Culte
ATTACH;FMTTYPE=image/jpeg:https://eglisebblieusaint.com/wp-content/uploads/2024/11/459085170_10162107462520139_4420698929922000788_n.jpg
END:VEVENT
BEGIN:VEVENT
DTSTART;VALUE=DATE:20241224
DTEND;VALUE=DATE:20241225
DTSTAMP:20260424T095754
CREATED:20241124T121009Z
LAST-MODIFIED:20241124T121142Z
UID:1545-1734998400-1735084799@eglisebblieusaint.com
SUMMARY:Pas de réunion
DESCRIPTION:
URL:https://eglisebblieusaint.com/evenement/pas-de-reunion
END:VEVENT
BEGIN:VEVENT
DTSTART;VALUE=DATE:20241231
DTEND;VALUE=DATE:20250101
DTSTAMP:20260424T095754
CREATED:20241124T121229Z
LAST-MODIFIED:20241124T121229Z
UID:1547-1735603200-1735689599@eglisebblieusaint.com
SUMMARY:Pas de réunion
DESCRIPTION:
URL:https://eglisebblieusaint.com/evenement/pas-de-reunion-2
END:VEVENT
END:VCALENDAR