BEGIN:VCALENDAR
VERSION:2.0
PRODID:-//Eglise Biblique Baptiste de Lieusaint - ECPv6.15.11//NONSGML v1.0//EN
CALSCALE:GREGORIAN
METHOD:PUBLISH
X-ORIGINAL-URL:https://eglisebblieusaint.com
X-WR-CALDESC:Évènements pour Eglise Biblique Baptiste de Lieusaint
REFRESH-INTERVAL;VALUE=DURATION:PT1H
X-Robots-Tag:noindex
X-PUBLISHED-TTL:PT1H
BEGIN:VTIMEZONE
TZID:Europe/Paris
BEGIN:DAYLIGHT
TZOFFSETFROM:+0100
TZOFFSETTO:+0200
TZNAME:CEST
DTSTART:20240331T010000
END:DAYLIGHT
BEGIN:STANDARD
TZOFFSETFROM:+0200
TZOFFSETTO:+0100
TZNAME:CET
DTSTART:20241027T010000
END:STANDARD
BEGIN:DAYLIGHT
TZOFFSETFROM:+0100
TZOFFSETTO:+0200
TZNAME:CEST
DTSTART:20250330T010000
END:DAYLIGHT
BEGIN:STANDARD
TZOFFSETFROM:+0200
TZOFFSETTO:+0100
TZNAME:CET
DTSTART:20251026T010000
END:STANDARD
BEGIN:DAYLIGHT
TZOFFSETFROM:+0100
TZOFFSETTO:+0200
TZNAME:CEST
DTSTART:20260329T010000
END:DAYLIGHT
BEGIN:STANDARD
TZOFFSETFROM:+0200
TZOFFSETTO:+0100
TZNAME:CET
DTSTART:20261025T010000
END:STANDARD
END:VTIMEZONE
BEGIN:VTIMEZONE
TZID:UTC
BEGIN:STANDARD
TZOFFSETFROM:+0000
TZOFFSETTO:+0000
TZNAME:UTC
DTSTART:20240101T000000
END:STANDARD
END:VTIMEZONE
BEGIN:VEVENT
DTSTART;TZID=Europe/Paris:20250102T160000
DTEND;TZID=Europe/Paris:20250102T173000
DTSTAMP:20260424T083051
CREATED:20250101T091104Z
LAST-MODIFIED:20250101T091104Z
UID:1813-1735833600-1735839000@eglisebblieusaint.com
SUMMARY:Visite hebdomadaire à la maison de retraite de St Pierre du Perray
DESCRIPTION:
URL:https://eglisebblieusaint.com/evenement/visite-hebdomadaire-a-la-maison-de-retraite-de-st-pierre-du-perray-2
LOCATION:Cedre Blue\, 12 Rue du Château\, Saint-Pierre-du-Perray\, 91280\, France
CATEGORIES:Visite à la maison de retraite
ATTACH;FMTTYPE=image/jpeg:https://eglisebblieusaint.com/wp-content/uploads/2024/11/CedreBleu-scaled.jpg
END:VEVENT
BEGIN:VEVENT
DTSTART;TZID=Europe/Paris:20250105T100000
DTEND;TZID=Europe/Paris:20250105T104500
DTSTAMP:20260424T083051
CREATED:20250101T085501Z
LAST-MODIFIED:20250101T085501Z
UID:1786-1736071200-1736073900@eglisebblieusaint.com
SUMMARY:Étude biblique
DESCRIPTION:
URL:https://eglisebblieusaint.com/evenement/etude-biblique-8
LOCATION:Maison des Associations\, 5 Impasse du Moulin à Vent\, Lieusaint\, 77127
CATEGORIES:Étude biblique
END:VEVENT
BEGIN:VEVENT
DTSTART;TZID=Europe/Paris:20250105T110000
DTEND;TZID=Europe/Paris:20250105T110000
DTSTAMP:20260424T083051
CREATED:20250101T085545Z
LAST-MODIFIED:20250101T085545Z
UID:1788-1736074800-1736074800@eglisebblieusaint.com
SUMMARY:Culte
DESCRIPTION:Nous louons Dieu ensemble dans des chants et une prédication.
URL:https://eglisebblieusaint.com/evenement/culte-7
LOCATION:Maison des Associations\, 5 Impasse du Moulin à Vent\, Lieusaint\, 77127
CATEGORIES:Culte
ATTACH;FMTTYPE=image/jpeg:https://eglisebblieusaint.com/wp-content/uploads/2024/11/459085170_10162107462520139_4420698929922000788_n.jpg
END:VEVENT
BEGIN:VEVENT
DTSTART;TZID=Europe/Paris:20250107T190000
DTEND;TZID=Europe/Paris:20250107T210000
DTSTAMP:20260424T083051
CREATED:20250101T085152Z
LAST-MODIFIED:20250105T160940Z
UID:1780-1736276400-1736283600@eglisebblieusaint.com
SUMMARY:Reunion de prière
DESCRIPTION:
URL:https://eglisebblieusaint.com/evenement/reunion-de-priere-8
LOCATION:Chez Whittaker
CATEGORIES:La prière
END:VEVENT
BEGIN:VEVENT
DTSTART;TZID=UTC:20250111T150000
DTEND;TZID=UTC:20250111T150000
DTSTAMP:20260424T083051
CREATED:20250101T090222Z
LAST-MODIFIED:20250101T090222Z
UID:1802-1736607600-1736607600@eglisebblieusaint.com
SUMMARY:Kid's club
DESCRIPTION:
URL:https://eglisebblieusaint.com/evenement/kids-club-4
CATEGORIES:Kid's club
END:VEVENT
BEGIN:VEVENT
DTSTART;TZID=Europe/Paris:20250112T100000
DTEND;TZID=Europe/Paris:20250112T104500
DTSTAMP:20260424T083051
CREATED:20250101T085832Z
LAST-MODIFIED:20250101T085832Z
UID:1796-1736676000-1736678700@eglisebblieusaint.com
SUMMARY:Étude biblique
DESCRIPTION:
URL:https://eglisebblieusaint.com/evenement/etude-biblique-9
LOCATION:Maison des Associations\, 5 Impasse du Moulin à Vent\, Lieusaint\, 77127
CATEGORIES:Étude biblique
END:VEVENT
BEGIN:VEVENT
DTSTART;TZID=Europe/Paris:20250112T110000
DTEND;TZID=Europe/Paris:20250112T110000
DTSTAMP:20260424T083051
CREATED:20250101T085631Z
LAST-MODIFIED:20250101T085631Z
UID:1790-1736679600-1736679600@eglisebblieusaint.com
SUMMARY:Culte
DESCRIPTION:Nous louons Dieu ensemble dans des chants et une prédication.
URL:https://eglisebblieusaint.com/evenement/culte-9
LOCATION:Maison des Associations\, 5 Impasse du Moulin à Vent\, Lieusaint\, 77127
CATEGORIES:Culte
ATTACH;FMTTYPE=image/jpeg:https://eglisebblieusaint.com/wp-content/uploads/2024/11/459085170_10162107462520139_4420698929922000788_n.jpg
END:VEVENT
BEGIN:VEVENT
DTSTART;TZID=Europe/Paris:20250114T190000
DTEND;TZID=Europe/Paris:20250114T210000
DTSTAMP:20260424T083051
CREATED:20250101T085250Z
LAST-MODIFIED:20250105T161019Z
UID:1782-1736881200-1736888400@eglisebblieusaint.com
SUMMARY:Reunion de prière
DESCRIPTION:
URL:https://eglisebblieusaint.com/evenement/reunion-de-priere-9
LOCATION:Chez Auterson
CATEGORIES:La prière
END:VEVENT
BEGIN:VEVENT
DTSTART;TZID=Europe/Paris:20250116T160000
DTEND;TZID=Europe/Paris:20250116T173000
DTSTAMP:20260424T083051
CREATED:20250101T091251Z
LAST-MODIFIED:20250101T091251Z
UID:1815-1737043200-1737048600@eglisebblieusaint.com
SUMMARY:Visite hebdomadaire à la maison de retraite de St Pierre du Perray
DESCRIPTION:
URL:https://eglisebblieusaint.com/evenement/visite-hebdomadaire-a-la-maison-de-retraite-de-st-pierre-du-perray-3
LOCATION:Cedre Blue\, 12 Rue du Château\, Saint-Pierre-du-Perray\, 91280\, France
CATEGORIES:Visite à la maison de retraite
ATTACH;FMTTYPE=image/jpeg:https://eglisebblieusaint.com/wp-content/uploads/2024/11/CedreBleu-scaled.jpg
END:VEVENT
BEGIN:VEVENT
DTSTART;TZID=Europe/Paris:20250118T100000
DTEND;TZID=Europe/Paris:20250118T100000
DTSTAMP:20260424T083051
CREATED:20250101T090344Z
LAST-MODIFIED:20250120T103114Z
UID:1804-1737194400-1737194400@eglisebblieusaint.com
SUMMARY:Réunion des hommes
DESCRIPTION:
URL:https://eglisebblieusaint.com/evenement/reunion-des-hommes-2
LOCATION:Chez Whittaker
CATEGORIES:Réunion des hommes
ATTACH;FMTTYPE=image/jpeg:https://eglisebblieusaint.com/wp-content/uploads/2025/01/PXL_20250118_091809390.MP2_-scaled.jpg
END:VEVENT
BEGIN:VEVENT
DTSTART;TZID=Europe/Paris:20250119T100000
DTEND;TZID=Europe/Paris:20250119T104500
DTSTAMP:20260424T083051
CREATED:20250101T090812Z
LAST-MODIFIED:20250101T090812Z
UID:1809-1737280800-1737283500@eglisebblieusaint.com
SUMMARY:Assemblée générale : 1901
DESCRIPTION:
URL:https://eglisebblieusaint.com/evenement/assemblee-generale-1901
LOCATION:Maison des Associations\, 5 Impasse du Moulin à Vent\, Lieusaint\, 77127
CATEGORIES:Assemblée générale
END:VEVENT
BEGIN:VEVENT
DTSTART;TZID=Europe/Paris:20250119T100000
DTEND;TZID=Europe/Paris:20250119T104500
DTSTAMP:20260424T083051
CREATED:20250101T090850Z
LAST-MODIFIED:20250101T092001Z
UID:1811-1737280800-1737283500@eglisebblieusaint.com
SUMMARY:Assemblée générale : 1905
DESCRIPTION:
URL:https://eglisebblieusaint.com/evenement/assemblee-generale-1905
LOCATION:Maison des Associations\, 5 Impasse du Moulin à Vent\, Lieusaint\, 77127
CATEGORIES:Assemblée générale
END:VEVENT
BEGIN:VEVENT
DTSTART;TZID=Europe/Paris:20250119T110000
DTEND;TZID=Europe/Paris:20250119T110000
DTSTAMP:20260424T083051
CREATED:20250101T085711Z
LAST-MODIFIED:20250101T085711Z
UID:1792-1737284400-1737284400@eglisebblieusaint.com
SUMMARY:Culte
DESCRIPTION:Nous louons Dieu ensemble dans des chants et une prédication.
URL:https://eglisebblieusaint.com/evenement/culte-10
LOCATION:Maison des Associations\, 5 Impasse du Moulin à Vent\, Lieusaint\, 77127
CATEGORIES:Culte
ATTACH;FMTTYPE=image/jpeg:https://eglisebblieusaint.com/wp-content/uploads/2024/11/459085170_10162107462520139_4420698929922000788_n.jpg
END:VEVENT
BEGIN:VEVENT
DTSTART;TZID=Europe/Paris:20250121T190000
DTEND;TZID=Europe/Paris:20250121T210000
DTSTAMP:20260424T083051
CREATED:20250101T091613Z
LAST-MODIFIED:20250105T161047Z
UID:1821-1737486000-1737493200@eglisebblieusaint.com
SUMMARY:Reunion de prière
DESCRIPTION:
URL:https://eglisebblieusaint.com/evenement/reunion-de-priere-11
LOCATION:Chez Whittaker
CATEGORIES:La prière
END:VEVENT
BEGIN:VEVENT
DTSTART;TZID=Europe/Paris:20250123T160000
DTEND;TZID=Europe/Paris:20250123T173000
DTSTAMP:20260424T083051
CREATED:20250101T091327Z
LAST-MODIFIED:20250101T091327Z
UID:1817-1737648000-1737653400@eglisebblieusaint.com
SUMMARY:Visite hebdomadaire à la maison de retraite de St Pierre du Perray
DESCRIPTION:
URL:https://eglisebblieusaint.com/evenement/visite-hebdomadaire-a-la-maison-de-retraite-de-st-pierre-du-perray-4
LOCATION:Cedre Blue\, 12 Rue du Château\, Saint-Pierre-du-Perray\, 91280\, France
CATEGORIES:Visite à la maison de retraite
ATTACH;FMTTYPE=image/jpeg:https://eglisebblieusaint.com/wp-content/uploads/2024/11/CedreBleu-scaled.jpg
END:VEVENT
BEGIN:VEVENT
DTSTART;TZID=Europe/Paris:20250125T160000
DTEND;TZID=Europe/Paris:20250125T160000
DTSTAMP:20260424T083051
CREATED:20250101T090608Z
LAST-MODIFIED:20250101T090608Z
UID:1806-1737820800-1737820800@eglisebblieusaint.com
SUMMARY:Réunion des femmes
DESCRIPTION:
URL:https://eglisebblieusaint.com/evenement/reunion-des-femmes
LOCATION:Chez Françoise
CATEGORIES:Réunion des femmes
ATTACH;FMTTYPE=image/jpeg:https://eglisebblieusaint.com/wp-content/uploads/2024/11/20240622_210541-scaled.jpg
END:VEVENT
BEGIN:VEVENT
DTSTART;TZID=Europe/Paris:20250126T100000
DTEND;TZID=Europe/Paris:20250126T104500
DTSTAMP:20260424T083051
CREATED:20250101T085915Z
LAST-MODIFIED:20250101T085915Z
UID:1798-1737885600-1737888300@eglisebblieusaint.com
SUMMARY:Étude biblique
DESCRIPTION:
URL:https://eglisebblieusaint.com/evenement/etude-biblique-10
LOCATION:Maison des Associations\, 5 Impasse du Moulin à Vent\, Lieusaint\, 77127
CATEGORIES:Étude biblique
END:VEVENT
BEGIN:VEVENT
DTSTART;TZID=Europe/Paris:20250126T110000
DTEND;TZID=Europe/Paris:20250126T110000
DTSTAMP:20260424T083051
CREATED:20250101T085749Z
LAST-MODIFIED:20250101T085749Z
UID:1794-1737889200-1737889200@eglisebblieusaint.com
SUMMARY:Culte
DESCRIPTION:Nous louons Dieu ensemble dans des chants et une prédication.
URL:https://eglisebblieusaint.com/evenement/culte-11
LOCATION:Maison des Associations\, 5 Impasse du Moulin à Vent\, Lieusaint\, 77127
CATEGORIES:Culte
ATTACH;FMTTYPE=image/jpeg:https://eglisebblieusaint.com/wp-content/uploads/2024/11/459085170_10162107462520139_4420698929922000788_n.jpg
END:VEVENT
BEGIN:VEVENT
DTSTART;TZID=Europe/Paris:20250128T190000
DTEND;TZID=Europe/Paris:20250128T210000
DTSTAMP:20260424T083051
CREATED:20250101T085336Z
LAST-MODIFIED:20250105T161114Z
UID:1784-1738090800-1738098000@eglisebblieusaint.com
SUMMARY:Reunion de prière
DESCRIPTION:
URL:https://eglisebblieusaint.com/evenement/reunion-de-priere-10
LOCATION:Chez Auterson
CATEGORIES:La prière
END:VEVENT
BEGIN:VEVENT
DTSTART;TZID=Europe/Paris:20250130T160000
DTEND;TZID=Europe/Paris:20250130T173000
DTSTAMP:20260424T083051
CREATED:20250101T091350Z
LAST-MODIFIED:20250101T091350Z
UID:1819-1738252800-1738258200@eglisebblieusaint.com
SUMMARY:Visite hebdomadaire à la maison de retraite de St Pierre du Perray
DESCRIPTION:
URL:https://eglisebblieusaint.com/evenement/visite-hebdomadaire-a-la-maison-de-retraite-de-st-pierre-du-perray-5
LOCATION:Cedre Blue\, 12 Rue du Château\, Saint-Pierre-du-Perray\, 91280\, France
CATEGORIES:Visite à la maison de retraite
ATTACH;FMTTYPE=image/jpeg:https://eglisebblieusaint.com/wp-content/uploads/2024/11/CedreBleu-scaled.jpg
END:VEVENT
END:VCALENDAR