BEGIN:VCALENDAR
VERSION:2.0
PRODID:-//Eglise Biblique Baptiste de Lieusaint - ECPv6.15.11//NONSGML v1.0//EN
CALSCALE:GREGORIAN
METHOD:PUBLISH
X-ORIGINAL-URL:https://eglisebblieusaint.com
X-WR-CALDESC:Évènements pour Eglise Biblique Baptiste de Lieusaint
REFRESH-INTERVAL;VALUE=DURATION:PT1H
X-Robots-Tag:noindex
X-PUBLISHED-TTL:PT1H
BEGIN:VTIMEZONE
TZID:UTC
BEGIN:STANDARD
TZOFFSETFROM:+0000
TZOFFSETTO:+0000
TZNAME:UTC
DTSTART:20240101T000000
END:STANDARD
END:VTIMEZONE
BEGIN:VTIMEZONE
TZID:Europe/Paris
BEGIN:DAYLIGHT
TZOFFSETFROM:+0100
TZOFFSETTO:+0200
TZNAME:CEST
DTSTART:20240331T010000
END:DAYLIGHT
BEGIN:STANDARD
TZOFFSETFROM:+0200
TZOFFSETTO:+0100
TZNAME:CET
DTSTART:20241027T010000
END:STANDARD
BEGIN:DAYLIGHT
TZOFFSETFROM:+0100
TZOFFSETTO:+0200
TZNAME:CEST
DTSTART:20250330T010000
END:DAYLIGHT
BEGIN:STANDARD
TZOFFSETFROM:+0200
TZOFFSETTO:+0100
TZNAME:CET
DTSTART:20251026T010000
END:STANDARD
BEGIN:DAYLIGHT
TZOFFSETFROM:+0100
TZOFFSETTO:+0200
TZNAME:CEST
DTSTART:20260329T010000
END:DAYLIGHT
BEGIN:STANDARD
TZOFFSETFROM:+0200
TZOFFSETTO:+0100
TZNAME:CET
DTSTART:20261025T010000
END:STANDARD
END:VTIMEZONE
BEGIN:VEVENT
DTSTART;TZID=UTC:20250201T150000
DTEND;TZID=UTC:20250201T150000
DTSTAMP:20260424T070242
CREATED:20250126T142848Z
LAST-MODIFIED:20250126T142848Z
UID:1884-1738422000-1738422000@eglisebblieusaint.com
SUMMARY:Kid's club ( Patinoire )
DESCRIPTION:
URL:https://eglisebblieusaint.com/evenement/kids-club-patinoire
CATEGORIES:Kid's club
END:VEVENT
BEGIN:VEVENT
DTSTART;TZID=Europe/Paris:20250202T100000
DTEND;TZID=Europe/Paris:20250202T104500
DTSTAMP:20260424T070242
CREATED:20250127T130808Z
LAST-MODIFIED:20250127T130808Z
UID:1934-1738490400-1738493100@eglisebblieusaint.com
SUMMARY:Étude biblique
DESCRIPTION:
URL:https://eglisebblieusaint.com/evenement/etude-biblique-11
LOCATION:Maison des Associations\, 5 Impasse du Moulin à Vent\, Lieusaint\, 77127
CATEGORIES:Étude biblique
END:VEVENT
BEGIN:VEVENT
DTSTART;TZID=Europe/Paris:20250202T110000
DTEND;TZID=Europe/Paris:20250202T110000
DTSTAMP:20260424T070242
CREATED:20250127T125759Z
LAST-MODIFIED:20250127T125759Z
UID:1918-1738494000-1738494000@eglisebblieusaint.com
SUMMARY:Culte
DESCRIPTION:Nous louons Dieu ensemble dans des chants et une prédication.
URL:https://eglisebblieusaint.com/evenement/culte-12
LOCATION:Maison des Associations\, 5 Impasse du Moulin à Vent\, Lieusaint\, 77127
CATEGORIES:Culte
ATTACH;FMTTYPE=image/jpeg:https://eglisebblieusaint.com/wp-content/uploads/2024/11/459085170_10162107462520139_4420698929922000788_n.jpg
END:VEVENT
BEGIN:VEVENT
DTSTART;TZID=Europe/Paris:20250202T121500
DTEND;TZID=Europe/Paris:20250202T130000
DTSTAMP:20260424T070242
CREATED:20250126T143010Z
LAST-MODIFIED:20250126T143010Z
UID:1886-1738498500-1738501200@eglisebblieusaint.com
SUMMARY:Saint Cène
DESCRIPTION:
URL:https://eglisebblieusaint.com/evenement/saint-cene
LOCATION:Maison des Associations\, 5 Impasse du Moulin à Vent\, Lieusaint\, 77127
CATEGORIES:Culte
END:VEVENT
BEGIN:VEVENT
DTSTART;TZID=Europe/Paris:20250204T190000
DTEND;TZID=Europe/Paris:20250204T210000
DTSTAMP:20260424T070242
CREATED:20250127T130233Z
LAST-MODIFIED:20250127T130524Z
UID:1926-1738695600-1738702800@eglisebblieusaint.com
SUMMARY:Reunion de prière
DESCRIPTION:
URL:https://eglisebblieusaint.com/evenement/reunion-de-priere-12
LOCATION:Chez Whittaker
CATEGORIES:La prière
END:VEVENT
BEGIN:VEVENT
DTSTART;TZID=Europe/Paris:20250206T160000
DTEND;TZID=Europe/Paris:20250206T173000
DTSTAMP:20260424T070242
CREATED:20250127T125318Z
LAST-MODIFIED:20250127T125318Z
UID:1910-1738857600-1738863000@eglisebblieusaint.com
SUMMARY:Visite hebdomadaire à la maison de retraite de St Pierre du Perray
DESCRIPTION:
URL:https://eglisebblieusaint.com/evenement/visite-hebdomadaire-a-la-maison-de-retraite-de-st-pierre-du-perray-6
LOCATION:Cedre Blue\, 12 Rue du Château\, Saint-Pierre-du-Perray\, 91280\, France
CATEGORIES:Visite à la maison de retraite
ATTACH;FMTTYPE=image/jpeg:https://eglisebblieusaint.com/wp-content/uploads/2024/11/CedreBleu-scaled.jpg
END:VEVENT
BEGIN:VEVENT
DTSTART;TZID=UTC:20250208T163000
DTEND;TZID=UTC:20250208T181500
DTSTAMP:20260424T070242
CREATED:20250126T143145Z
LAST-MODIFIED:20250127T141240Z
UID:1888-1739032200-1739038500@eglisebblieusaint.com
SUMMARY:Kid's club
DESCRIPTION:
URL:https://eglisebblieusaint.com/evenement/kids-club-5
LOCATION:Chez Whittaker
CATEGORIES:Kid's club
END:VEVENT
BEGIN:VEVENT
DTSTART;TZID=Europe/Paris:20250209T100000
DTEND;TZID=Europe/Paris:20250209T104500
DTSTAMP:20260424T070242
CREATED:20250127T130851Z
LAST-MODIFIED:20250127T130851Z
UID:1936-1739095200-1739097900@eglisebblieusaint.com
SUMMARY:Étude biblique
DESCRIPTION:
URL:https://eglisebblieusaint.com/evenement/etude-biblique-12
LOCATION:Maison des Associations\, 5 Impasse du Moulin à Vent\, Lieusaint\, 77127
CATEGORIES:Étude biblique
END:VEVENT
BEGIN:VEVENT
DTSTART;TZID=Europe/Paris:20250209T110000
DTEND;TZID=Europe/Paris:20250209T110000
DTSTAMP:20260424T070242
CREATED:20250127T125845Z
LAST-MODIFIED:20250127T125845Z
UID:1920-1739098800-1739098800@eglisebblieusaint.com
SUMMARY:Culte
DESCRIPTION:Nous louons Dieu ensemble dans des chants et une prédication.
URL:https://eglisebblieusaint.com/evenement/culte-13
LOCATION:Maison des Associations\, 5 Impasse du Moulin à Vent\, Lieusaint\, 77127
CATEGORIES:Culte
ATTACH;FMTTYPE=image/jpeg:https://eglisebblieusaint.com/wp-content/uploads/2024/11/459085170_10162107462520139_4420698929922000788_n.jpg
END:VEVENT
BEGIN:VEVENT
DTSTART;TZID=Europe/Paris:20250209T121500
DTEND;TZID=Europe/Paris:20250209T130000
DTSTAMP:20260424T070242
CREATED:20250126T143319Z
LAST-MODIFIED:20250126T143319Z
UID:1890-1739103300-1739106000@eglisebblieusaint.com
SUMMARY:Jeûne / Prière
DESCRIPTION:
URL:https://eglisebblieusaint.com/evenement/jeune-priere
LOCATION:Maison des Associations\, 5 Impasse du Moulin à Vent\, Lieusaint\, 77127
CATEGORIES:La prière
END:VEVENT
BEGIN:VEVENT
DTSTART;TZID=Europe/Paris:20250211T190000
DTEND;TZID=Europe/Paris:20250211T210000
DTSTAMP:20260424T070242
CREATED:20250127T130317Z
LAST-MODIFIED:20250127T130317Z
UID:1928-1739300400-1739307600@eglisebblieusaint.com
SUMMARY:Reunion de prière
DESCRIPTION:
URL:https://eglisebblieusaint.com/evenement/reunion-de-priere-13
LOCATION:Chez Auterson
CATEGORIES:La prière
END:VEVENT
BEGIN:VEVENT
DTSTART;TZID=Europe/Paris:20250213T160000
DTEND;TZID=Europe/Paris:20250213T173000
DTSTAMP:20260424T070242
CREATED:20250127T125408Z
LAST-MODIFIED:20250127T125408Z
UID:1912-1739462400-1739467800@eglisebblieusaint.com
SUMMARY:Visite hebdomadaire à la maison de retraite de St Pierre du Perray
DESCRIPTION:
URL:https://eglisebblieusaint.com/evenement/visite-hebdomadaire-a-la-maison-de-retraite-de-st-pierre-du-perray-7
LOCATION:Cedre Blue\, 12 Rue du Château\, Saint-Pierre-du-Perray\, 91280\, France
CATEGORIES:Visite à la maison de retraite
ATTACH;FMTTYPE=image/jpeg:https://eglisebblieusaint.com/wp-content/uploads/2024/11/CedreBleu-scaled.jpg
END:VEVENT
BEGIN:VEVENT
DTSTART;TZID=Europe/Paris:20250215T100000
DTEND;TZID=Europe/Paris:20250215T120000
DTSTAMP:20260424T070242
CREATED:20250126T143447Z
LAST-MODIFIED:20250126T143447Z
UID:1892-1739613600-1739620800@eglisebblieusaint.com
SUMMARY:Réunion des hommes
DESCRIPTION:
URL:https://eglisebblieusaint.com/evenement/reunion-des-hommes-3
CATEGORIES:Réunion des hommes
ATTACH;FMTTYPE=image/jpeg:https://eglisebblieusaint.com/wp-content/uploads/2025/01/PXL_20250118_091809390.MP2_-scaled.jpg
END:VEVENT
BEGIN:VEVENT
DTSTART;TZID=Europe/Paris:20250216T100000
DTEND;TZID=Europe/Paris:20250216T104500
DTSTAMP:20260424T070242
CREATED:20250127T130916Z
LAST-MODIFIED:20250127T130916Z
UID:1938-1739700000-1739702700@eglisebblieusaint.com
SUMMARY:Étude biblique
DESCRIPTION:
URL:https://eglisebblieusaint.com/evenement/etude-biblique-13
LOCATION:Maison des Associations\, 5 Impasse du Moulin à Vent\, Lieusaint\, 77127
CATEGORIES:Étude biblique
END:VEVENT
BEGIN:VEVENT
DTSTART;TZID=Europe/Paris:20250216T110000
DTEND;TZID=Europe/Paris:20250216T110000
DTSTAMP:20260424T070242
CREATED:20250127T125922Z
LAST-MODIFIED:20250127T125922Z
UID:1922-1739703600-1739703600@eglisebblieusaint.com
SUMMARY:Culte
DESCRIPTION:Nous louons Dieu ensemble dans des chants et une prédication.
URL:https://eglisebblieusaint.com/evenement/culte-14
LOCATION:Maison des Associations\, 5 Impasse du Moulin à Vent\, Lieusaint\, 77127
CATEGORIES:Culte
ATTACH;FMTTYPE=image/jpeg:https://eglisebblieusaint.com/wp-content/uploads/2024/11/459085170_10162107462520139_4420698929922000788_n.jpg
END:VEVENT
BEGIN:VEVENT
DTSTART;TZID=Europe/Paris:20250218T190000
DTEND;TZID=Europe/Paris:20250218T210000
DTSTAMP:20260424T070242
CREATED:20250127T130405Z
LAST-MODIFIED:20250127T130601Z
UID:1930-1739905200-1739912400@eglisebblieusaint.com
SUMMARY:Reunion de prière
DESCRIPTION:
URL:https://eglisebblieusaint.com/evenement/reunion-de-priere-14
LOCATION:Chez Whittaker
CATEGORIES:La prière
END:VEVENT
BEGIN:VEVENT
DTSTART;TZID=Europe/Paris:20250220T160000
DTEND;TZID=Europe/Paris:20250220T173000
DTSTAMP:20260424T070242
CREATED:20250127T125436Z
LAST-MODIFIED:20250127T125455Z
UID:1914-1740067200-1740072600@eglisebblieusaint.com
SUMMARY:Visite hebdomadaire à la maison de retraite de St Pierre du Perray
DESCRIPTION:
URL:https://eglisebblieusaint.com/evenement/visite-hebdomadaire-a-la-maison-de-retraite-de-st-pierre-du-perray-8
LOCATION:Cedre Blue\, 12 Rue du Château\, Saint-Pierre-du-Perray\, 91280\, France
CATEGORIES:Visite à la maison de retraite
ATTACH;FMTTYPE=image/jpeg:https://eglisebblieusaint.com/wp-content/uploads/2024/11/CedreBleu-scaled.jpg
END:VEVENT
BEGIN:VEVENT
DTSTART;TZID=Europe/Paris:20250223T100000
DTEND;TZID=Europe/Paris:20250223T104500
DTSTAMP:20260424T070242
CREATED:20250127T130946Z
LAST-MODIFIED:20250127T130946Z
UID:1940-1740304800-1740307500@eglisebblieusaint.com
SUMMARY:Étude biblique
DESCRIPTION:
URL:https://eglisebblieusaint.com/evenement/etude-biblique-14
LOCATION:Maison des Associations\, 5 Impasse du Moulin à Vent\, Lieusaint\, 77127
CATEGORIES:Étude biblique
END:VEVENT
BEGIN:VEVENT
DTSTART;TZID=Europe/Paris:20250223T110000
DTEND;TZID=Europe/Paris:20250223T110000
DTSTAMP:20260424T070242
CREATED:20250127T125952Z
LAST-MODIFIED:20250127T125952Z
UID:1924-1740308400-1740308400@eglisebblieusaint.com
SUMMARY:Culte
DESCRIPTION:Nous louons Dieu ensemble dans des chants et une prédication.
URL:https://eglisebblieusaint.com/evenement/culte-15
LOCATION:Maison des Associations\, 5 Impasse du Moulin à Vent\, Lieusaint\, 77127
CATEGORIES:Culte
ATTACH;FMTTYPE=image/jpeg:https://eglisebblieusaint.com/wp-content/uploads/2024/11/459085170_10162107462520139_4420698929922000788_n.jpg
END:VEVENT
BEGIN:VEVENT
DTSTART;TZID=Europe/Paris:20250225T190000
DTEND;TZID=Europe/Paris:20250225T210000
DTSTAMP:20260424T070242
CREATED:20250127T130437Z
LAST-MODIFIED:20250127T130437Z
UID:1932-1740510000-1740517200@eglisebblieusaint.com
SUMMARY:Reunion de prière
DESCRIPTION:
URL:https://eglisebblieusaint.com/evenement/reunion-de-priere-15
LOCATION:Chez Auterson
CATEGORIES:La prière
END:VEVENT
BEGIN:VEVENT
DTSTART;TZID=Europe/Paris:20250227T160000
DTEND;TZID=Europe/Paris:20250227T173000
DTSTAMP:20260424T070242
CREATED:20250127T125524Z
LAST-MODIFIED:20250127T125524Z
UID:1916-1740672000-1740677400@eglisebblieusaint.com
SUMMARY:Visite hebdomadaire à la maison de retraite de St Pierre du Perray
DESCRIPTION:
URL:https://eglisebblieusaint.com/evenement/visite-hebdomadaire-a-la-maison-de-retraite-de-st-pierre-du-perray-9
LOCATION:Cedre Blue\, 12 Rue du Château\, Saint-Pierre-du-Perray\, 91280\, France
CATEGORIES:Visite à la maison de retraite
ATTACH;FMTTYPE=image/jpeg:https://eglisebblieusaint.com/wp-content/uploads/2024/11/CedreBleu-scaled.jpg
END:VEVENT
END:VCALENDAR