BEGIN:VCALENDAR
VERSION:2.0
PRODID:-//Eglise Biblique Baptiste de Lieusaint - ECPv6.15.11//NONSGML v1.0//EN
CALSCALE:GREGORIAN
METHOD:PUBLISH
X-ORIGINAL-URL:https://eglisebblieusaint.com
X-WR-CALDESC:Évènements pour Eglise Biblique Baptiste de Lieusaint
REFRESH-INTERVAL;VALUE=DURATION:PT1H
X-Robots-Tag:noindex
X-PUBLISHED-TTL:PT1H
BEGIN:VTIMEZONE
TZID:UTC
BEGIN:STANDARD
TZOFFSETFROM:+0000
TZOFFSETTO:+0000
TZNAME:UTC
DTSTART:20240101T000000
END:STANDARD
END:VTIMEZONE
BEGIN:VTIMEZONE
TZID:Europe/Paris
BEGIN:DAYLIGHT
TZOFFSETFROM:+0100
TZOFFSETTO:+0200
TZNAME:CEST
DTSTART:20240331T010000
END:DAYLIGHT
BEGIN:STANDARD
TZOFFSETFROM:+0200
TZOFFSETTO:+0100
TZNAME:CET
DTSTART:20241027T010000
END:STANDARD
BEGIN:DAYLIGHT
TZOFFSETFROM:+0100
TZOFFSETTO:+0200
TZNAME:CEST
DTSTART:20250330T010000
END:DAYLIGHT
BEGIN:STANDARD
TZOFFSETFROM:+0200
TZOFFSETTO:+0100
TZNAME:CET
DTSTART:20251026T010000
END:STANDARD
BEGIN:DAYLIGHT
TZOFFSETFROM:+0100
TZOFFSETTO:+0200
TZNAME:CEST
DTSTART:20260329T010000
END:DAYLIGHT
BEGIN:STANDARD
TZOFFSETFROM:+0200
TZOFFSETTO:+0100
TZNAME:CET
DTSTART:20261025T010000
END:STANDARD
END:VTIMEZONE
BEGIN:VEVENT
DTSTART;TZID=UTC:20250301T163000
DTEND;TZID=UTC:20250301T181500
DTSTAMP:20260424T053735
CREATED:20250225T143909Z
LAST-MODIFIED:20250225T143909Z
UID:1989-1740846600-1740852900@eglisebblieusaint.com
SUMMARY:Kid's club
DESCRIPTION:
URL:https://eglisebblieusaint.com/evenement/kids-club-6
LOCATION:Chez Whittaker
CATEGORIES:Kid's club
END:VEVENT
BEGIN:VEVENT
DTSTART;TZID=Europe/Paris:20250302T100000
DTEND;TZID=Europe/Paris:20250302T104500
DTSTAMP:20260424T053735
CREATED:20250127T131121Z
LAST-MODIFIED:20250127T131121Z
UID:1942-1740909600-1740912300@eglisebblieusaint.com
SUMMARY:Étude biblique
DESCRIPTION:
URL:https://eglisebblieusaint.com/evenement/etude-biblique-15
LOCATION:Maison des Associations\, 5 Impasse du Moulin à Vent\, Lieusaint\, 77127
CATEGORIES:Étude biblique
END:VEVENT
BEGIN:VEVENT
DTSTART;TZID=Europe/Paris:20250302T110000
DTEND;TZID=Europe/Paris:20250302T110000
DTSTAMP:20260424T053735
CREATED:20250127T131148Z
LAST-MODIFIED:20250127T131148Z
UID:1944-1740913200-1740913200@eglisebblieusaint.com
SUMMARY:Culte
DESCRIPTION:Nous louons Dieu ensemble dans des chants et une prédication.
URL:https://eglisebblieusaint.com/evenement/culte-16
LOCATION:Maison des Associations\, 5 Impasse du Moulin à Vent\, Lieusaint\, 77127
CATEGORIES:Culte
ATTACH;FMTTYPE=image/jpeg:https://eglisebblieusaint.com/wp-content/uploads/2024/11/459085170_10162107462520139_4420698929922000788_n.jpg
END:VEVENT
BEGIN:VEVENT
DTSTART;TZID=Europe/Paris:20250302T130000
DTEND;TZID=Europe/Paris:20250302T143000
DTSTAMP:20260424T053735
CREATED:20250126T143729Z
LAST-MODIFIED:20250126T143729Z
UID:1896-1740920400-1740925800@eglisebblieusaint.com
SUMMARY:Repas
DESCRIPTION:
URL:https://eglisebblieusaint.com/evenement/repas
LOCATION:Maison des Associations\, 5 Impasse du Moulin à Vent\, Lieusaint\, 77127
END:VEVENT
BEGIN:VEVENT
DTSTART;TZID=Europe/Paris:20250304T190000
DTEND;TZID=Europe/Paris:20250304T210000
DTSTAMP:20260424T053735
CREATED:20250225T143008Z
LAST-MODIFIED:20250225T143106Z
UID:1981-1741114800-1741122000@eglisebblieusaint.com
SUMMARY:Reunion de prière
DESCRIPTION:
URL:https://eglisebblieusaint.com/evenement/reunion-de-priere-16
LOCATION:Chez Whittaker
CATEGORIES:La prière
END:VEVENT
BEGIN:VEVENT
DTSTART;TZID=Europe/Paris:20250306T160000
DTEND;TZID=Europe/Paris:20250306T173000
DTSTAMP:20260424T053735
CREATED:20250225T145627Z
LAST-MODIFIED:20250225T145627Z
UID:2016-1741276800-1741282200@eglisebblieusaint.com
SUMMARY:Visite hebdomadaire à la maison de retraite de St Pierre du Perray
DESCRIPTION:
URL:https://eglisebblieusaint.com/evenement/visite-hebdomadaire-a-la-maison-de-retraite-de-st-pierre-du-perray-10
LOCATION:Cedre Blue\, 12 Rue du Château\, Saint-Pierre-du-Perray\, 91280\, France
CATEGORIES:Visite à la maison de retraite
ATTACH;FMTTYPE=image/jpeg:https://eglisebblieusaint.com/wp-content/uploads/2024/11/CedreBleu-scaled.jpg
END:VEVENT
BEGIN:VEVENT
DTSTART;TZID=UTC:20250308T150000
DTEND;TZID=UTC:20250308T170000
DTSTAMP:20260424T053735
CREATED:20250225T144308Z
LAST-MODIFIED:20250225T144308Z
UID:1993-1741446000-1741453200@eglisebblieusaint.com
SUMMARY:Kid's club
DESCRIPTION:
URL:https://eglisebblieusaint.com/evenement/kids-club-8
LOCATION:Chez Auterson
CATEGORIES:Kid's club
END:VEVENT
BEGIN:VEVENT
DTSTART;TZID=UTC:20250308T163000
DTEND;TZID=UTC:20250308T181500
DTSTAMP:20260424T053735
CREATED:20250225T144130Z
LAST-MODIFIED:20250225T144426Z
UID:1991-1741451400-1741457700@eglisebblieusaint.com
SUMMARY:Club collégiens
DESCRIPTION:
URL:https://eglisebblieusaint.com/evenement/kids-club-7
LOCATION:Chez Whittaker
CATEGORIES:Club collégiens
END:VEVENT
BEGIN:VEVENT
DTSTART;TZID=Europe/Paris:20250309T100000
DTEND;TZID=Europe/Paris:20250309T104500
DTSTAMP:20260424T053735
CREATED:20250225T144957Z
LAST-MODIFIED:20250225T144957Z
UID:1998-1741514400-1741517100@eglisebblieusaint.com
SUMMARY:Étude biblique
DESCRIPTION:
URL:https://eglisebblieusaint.com/evenement/etude-biblique-16
LOCATION:Maison des Associations\, 5 Impasse du Moulin à Vent\, Lieusaint\, 77127
CATEGORIES:Étude biblique
END:VEVENT
BEGIN:VEVENT
DTSTART;TZID=Europe/Paris:20250309T110000
DTEND;TZID=Europe/Paris:20250309T110000
DTSTAMP:20260424T053735
CREATED:20250225T145251Z
LAST-MODIFIED:20250225T145251Z
UID:2006-1741518000-1741518000@eglisebblieusaint.com
SUMMARY:Culte
DESCRIPTION:Nous louons Dieu ensemble dans des chants et une prédication.
URL:https://eglisebblieusaint.com/evenement/culte-17
LOCATION:Maison des Associations\, 5 Impasse du Moulin à Vent\, Lieusaint\, 77127
CATEGORIES:Culte
ATTACH;FMTTYPE=image/jpeg:https://eglisebblieusaint.com/wp-content/uploads/2024/11/459085170_10162107462520139_4420698929922000788_n.jpg
END:VEVENT
BEGIN:VEVENT
DTSTART;TZID=Europe/Paris:20250311T190000
DTEND;TZID=Europe/Paris:20250311T210000
DTSTAMP:20260424T053735
CREATED:20250225T143237Z
LAST-MODIFIED:20250225T143237Z
UID:1983-1741719600-1741726800@eglisebblieusaint.com
SUMMARY:Reunion de prière
DESCRIPTION:
URL:https://eglisebblieusaint.com/evenement/reunion-de-priere-17
LOCATION:Chez Auterson
CATEGORIES:La prière
END:VEVENT
BEGIN:VEVENT
DTSTART;TZID=Europe/Paris:20250313T160000
DTEND;TZID=Europe/Paris:20250313T173000
DTSTAMP:20260424T053735
CREATED:20250225T145653Z
LAST-MODIFIED:20250225T145653Z
UID:2018-1741881600-1741887000@eglisebblieusaint.com
SUMMARY:Visite hebdomadaire à la maison de retraite de St Pierre du Perray
DESCRIPTION:
URL:https://eglisebblieusaint.com/evenement/visite-hebdomadaire-a-la-maison-de-retraite-de-st-pierre-du-perray-11
LOCATION:Cedre Blue\, 12 Rue du Château\, Saint-Pierre-du-Perray\, 91280\, France
CATEGORIES:Visite à la maison de retraite
ATTACH;FMTTYPE=image/jpeg:https://eglisebblieusaint.com/wp-content/uploads/2024/11/CedreBleu-scaled.jpg
END:VEVENT
BEGIN:VEVENT
DTSTART;TZID=Europe/Paris:20250316T100000
DTEND;TZID=Europe/Paris:20250316T104500
DTSTAMP:20260424T053735
CREATED:20250225T145047Z
LAST-MODIFIED:20250225T145047Z
UID:2000-1742119200-1742121900@eglisebblieusaint.com
SUMMARY:Étude biblique
DESCRIPTION:
URL:https://eglisebblieusaint.com/evenement/etude-biblique-17
LOCATION:Maison des Associations\, 5 Impasse du Moulin à Vent\, Lieusaint\, 77127
CATEGORIES:Étude biblique
END:VEVENT
BEGIN:VEVENT
DTSTART;TZID=Europe/Paris:20250316T110000
DTEND;TZID=Europe/Paris:20250316T110000
DTSTAMP:20260424T053735
CREATED:20250225T145310Z
LAST-MODIFIED:20250225T145310Z
UID:2008-1742122800-1742122800@eglisebblieusaint.com
SUMMARY:Culte
DESCRIPTION:Nous louons Dieu ensemble dans des chants et une prédication.
URL:https://eglisebblieusaint.com/evenement/culte-18
LOCATION:Maison des Associations\, 5 Impasse du Moulin à Vent\, Lieusaint\, 77127
CATEGORIES:Culte
ATTACH;FMTTYPE=image/jpeg:https://eglisebblieusaint.com/wp-content/uploads/2024/11/459085170_10162107462520139_4420698929922000788_n.jpg
END:VEVENT
BEGIN:VEVENT
DTSTART;TZID=Europe/Paris:20250318T190000
DTEND;TZID=Europe/Paris:20250318T210000
DTSTAMP:20260424T053735
CREATED:20250225T143315Z
LAST-MODIFIED:20250225T143315Z
UID:1985-1742324400-1742331600@eglisebblieusaint.com
SUMMARY:Reunion de prière
DESCRIPTION:
URL:https://eglisebblieusaint.com/evenement/reunion-de-priere-18
LOCATION:Chez Auterson
CATEGORIES:La prière
END:VEVENT
BEGIN:VEVENT
DTSTART;TZID=Europe/Paris:20250320T160000
DTEND;TZID=Europe/Paris:20250320T173000
DTSTAMP:20260424T053735
CREATED:20250225T145715Z
LAST-MODIFIED:20250225T145715Z
UID:2020-1742486400-1742491800@eglisebblieusaint.com
SUMMARY:Visite hebdomadaire à la maison de retraite de St Pierre du Perray
DESCRIPTION:
URL:https://eglisebblieusaint.com/evenement/visite-hebdomadaire-a-la-maison-de-retraite-de-st-pierre-du-perray-12
LOCATION:Cedre Blue\, 12 Rue du Château\, Saint-Pierre-du-Perray\, 91280\, France
CATEGORIES:Visite à la maison de retraite
ATTACH;FMTTYPE=image/jpeg:https://eglisebblieusaint.com/wp-content/uploads/2024/11/CedreBleu-scaled.jpg
END:VEVENT
BEGIN:VEVENT
DTSTART;TZID=Europe/Paris:20250322T100000
DTEND;TZID=Europe/Paris:20250322T120000
DTSTAMP:20260424T053735
CREATED:20250225T144629Z
LAST-MODIFIED:20250225T144629Z
UID:1996-1742637600-1742644800@eglisebblieusaint.com
SUMMARY:Réunion des hommes
DESCRIPTION:
URL:https://eglisebblieusaint.com/evenement/reunion-des-hommes-4
LOCATION:Chez Whittaker
CATEGORIES:Réunion des hommes
ATTACH;FMTTYPE=image/jpeg:https://eglisebblieusaint.com/wp-content/uploads/2025/01/PXL_20250118_091809390.MP2_-scaled.jpg
END:VEVENT
BEGIN:VEVENT
DTSTART;TZID=Europe/Paris:20250323T100000
DTEND;TZID=Europe/Paris:20250323T104500
DTSTAMP:20260424T053735
CREATED:20250225T145122Z
LAST-MODIFIED:20250225T145122Z
UID:2002-1742724000-1742726700@eglisebblieusaint.com
SUMMARY:Étude biblique
DESCRIPTION:
URL:https://eglisebblieusaint.com/evenement/etude-biblique-18
LOCATION:Maison des Associations\, 5 Impasse du Moulin à Vent\, Lieusaint\, 77127
CATEGORIES:Étude biblique
END:VEVENT
BEGIN:VEVENT
DTSTART;TZID=Europe/Paris:20250323T110000
DTEND;TZID=Europe/Paris:20250323T110000
DTSTAMP:20260424T053735
CREATED:20250225T145329Z
LAST-MODIFIED:20250225T145335Z
UID:2010-1742727600-1742727600@eglisebblieusaint.com
SUMMARY:Culte
DESCRIPTION:Nous louons Dieu ensemble dans des chants et une prédication.
URL:https://eglisebblieusaint.com/evenement/culte-19
LOCATION:Maison des Associations\, 5 Impasse du Moulin à Vent\, Lieusaint\, 77127
CATEGORIES:Culte
ATTACH;FMTTYPE=image/jpeg:https://eglisebblieusaint.com/wp-content/uploads/2024/11/459085170_10162107462520139_4420698929922000788_n.jpg
END:VEVENT
BEGIN:VEVENT
DTSTART;TZID=Europe/Paris:20250325T190000
DTEND;TZID=Europe/Paris:20250325T210000
DTSTAMP:20260424T053735
CREATED:20250225T143416Z
LAST-MODIFIED:20250225T143509Z
UID:1987-1742929200-1742936400@eglisebblieusaint.com
SUMMARY:Reunion de prière
DESCRIPTION:
URL:https://eglisebblieusaint.com/evenement/reunion-de-priere-19
LOCATION:Chez Whittaker
CATEGORIES:La prière
END:VEVENT
BEGIN:VEVENT
DTSTART;TZID=Europe/Paris:20250327T160000
DTEND;TZID=Europe/Paris:20250327T173000
DTSTAMP:20260424T053735
CREATED:20250225T145743Z
LAST-MODIFIED:20250225T145749Z
UID:2022-1743091200-1743096600@eglisebblieusaint.com
SUMMARY:Visite hebdomadaire à la maison de retraite de St Pierre du Perray
DESCRIPTION:
URL:https://eglisebblieusaint.com/evenement/visite-hebdomadaire-a-la-maison-de-retraite-de-st-pierre-du-perray-13
LOCATION:Cedre Blue\, 12 Rue du Château\, Saint-Pierre-du-Perray\, 91280\, France
CATEGORIES:Visite à la maison de retraite
ATTACH;FMTTYPE=image/jpeg:https://eglisebblieusaint.com/wp-content/uploads/2024/11/CedreBleu-scaled.jpg
END:VEVENT
BEGIN:VEVENT
DTSTART;TZID=Europe/Paris:20250329T160000
DTEND;TZID=Europe/Paris:20250329T180000
DTSTAMP:20260424T053735
CREATED:20250126T143617Z
LAST-MODIFIED:20250225T144807Z
UID:1894-1743264000-1743271200@eglisebblieusaint.com
SUMMARY:Réunion des femmes
DESCRIPTION:
URL:https://eglisebblieusaint.com/evenement/reunion-des-femmes-2
CATEGORIES:Réunion des femmes
ATTACH;FMTTYPE=image/jpeg:https://eglisebblieusaint.com/wp-content/uploads/2024/11/20240622_210541-scaled.jpg
END:VEVENT
BEGIN:VEVENT
DTSTART;TZID=Europe/Paris:20250330T100000
DTEND;TZID=Europe/Paris:20250330T104500
DTSTAMP:20260424T053735
CREATED:20250225T145140Z
LAST-MODIFIED:20250225T145140Z
UID:2004-1743328800-1743331500@eglisebblieusaint.com
SUMMARY:Étude biblique
DESCRIPTION:
URL:https://eglisebblieusaint.com/evenement/etude-biblique-19
LOCATION:Maison des Associations\, 5 Impasse du Moulin à Vent\, Lieusaint\, 77127
CATEGORIES:Étude biblique
END:VEVENT
BEGIN:VEVENT
DTSTART;TZID=Europe/Paris:20250330T110000
DTEND;TZID=Europe/Paris:20250330T110000
DTSTAMP:20260424T053735
CREATED:20250225T145351Z
LAST-MODIFIED:20250225T145351Z
UID:2012-1743332400-1743332400@eglisebblieusaint.com
SUMMARY:Culte
DESCRIPTION:Nous louons Dieu ensemble dans des chants et une prédication.
URL:https://eglisebblieusaint.com/evenement/culte-20
LOCATION:Maison des Associations\, 5 Impasse du Moulin à Vent\, Lieusaint\, 77127
CATEGORIES:Culte
ATTACH;FMTTYPE=image/jpeg:https://eglisebblieusaint.com/wp-content/uploads/2024/11/459085170_10162107462520139_4420698929922000788_n.jpg
END:VEVENT
END:VCALENDAR