BEGIN:VCALENDAR
VERSION:2.0
PRODID:-//Eglise Biblique Baptiste de Lieusaint - ECPv6.15.11//NONSGML v1.0//EN
CALSCALE:GREGORIAN
METHOD:PUBLISH
X-ORIGINAL-URL:https://eglisebblieusaint.com
X-WR-CALDESC:Évènements pour Eglise Biblique Baptiste de Lieusaint
REFRESH-INTERVAL;VALUE=DURATION:PT1H
X-Robots-Tag:noindex
X-PUBLISHED-TTL:PT1H
BEGIN:VTIMEZONE
TZID:Europe/Paris
BEGIN:DAYLIGHT
TZOFFSETFROM:+0100
TZOFFSETTO:+0200
TZNAME:CEST
DTSTART:20240331T010000
END:DAYLIGHT
BEGIN:STANDARD
TZOFFSETFROM:+0200
TZOFFSETTO:+0100
TZNAME:CET
DTSTART:20241027T010000
END:STANDARD
BEGIN:DAYLIGHT
TZOFFSETFROM:+0100
TZOFFSETTO:+0200
TZNAME:CEST
DTSTART:20250330T010000
END:DAYLIGHT
BEGIN:STANDARD
TZOFFSETFROM:+0200
TZOFFSETTO:+0100
TZNAME:CET
DTSTART:20251026T010000
END:STANDARD
BEGIN:DAYLIGHT
TZOFFSETFROM:+0100
TZOFFSETTO:+0200
TZNAME:CEST
DTSTART:20260329T010000
END:DAYLIGHT
BEGIN:STANDARD
TZOFFSETFROM:+0200
TZOFFSETTO:+0100
TZNAME:CET
DTSTART:20261025T010000
END:STANDARD
END:VTIMEZONE
BEGIN:VEVENT
DTSTART;TZID=Europe/Paris:20250401T190000
DTEND;TZID=Europe/Paris:20250401T210000
DTSTAMP:20260424T053736
CREATED:20250225T150102Z
LAST-MODIFIED:20250325T093818Z
UID:2028-1743534000-1743541200@eglisebblieusaint.com
SUMMARY:Pas de reunion de prière exceptionellement
DESCRIPTION:
URL:https://eglisebblieusaint.com/evenement/reunion-de-priere-20
CATEGORIES:La prière
END:VEVENT
BEGIN:VEVENT
DTSTART;TZID=Europe/Paris:20250403T160000
DTEND;TZID=Europe/Paris:20250403T173000
DTSTAMP:20260424T053736
CREATED:20250225T145953Z
LAST-MODIFIED:20250225T145953Z
UID:2026-1743696000-1743701400@eglisebblieusaint.com
SUMMARY:Visite hebdomadaire à la maison de retraite de St Pierre du Perray
DESCRIPTION:
URL:https://eglisebblieusaint.com/evenement/visite-hebdomadaire-a-la-maison-de-retraite-de-st-pierre-du-perray-14
LOCATION:Cedre Blue\, 12 Rue du Château\, Saint-Pierre-du-Perray\, 91280\, France
CATEGORIES:Visite à la maison de retraite
ATTACH;FMTTYPE=image/jpeg:https://eglisebblieusaint.com/wp-content/uploads/2024/11/CedreBleu-scaled.jpg
END:VEVENT
BEGIN:VEVENT
DTSTART;TZID=Europe/Paris:20250404T180000
DTEND;TZID=Europe/Paris:20250404T191500
DTSTAMP:20260424T053736
CREATED:20250325T133010Z
LAST-MODIFIED:20250325T133010Z
UID:2099-1743789600-1743794100@eglisebblieusaint.com
SUMMARY:Club collégiens
DESCRIPTION:
URL:https://eglisebblieusaint.com/evenement/club-collegiens-2
LOCATION:Chez Whittaker
CATEGORIES:Kid's club
END:VEVENT
BEGIN:VEVENT
DTSTART;TZID=Europe/Paris:20250405T150000
DTEND;TZID=Europe/Paris:20250405T163000
DTSTAMP:20260424T053736
CREATED:20250325T132912Z
LAST-MODIFIED:20250325T132912Z
UID:2097-1743865200-1743870600@eglisebblieusaint.com
SUMMARY:Kids club : chasse aux oeufs
DESCRIPTION:
URL:https://eglisebblieusaint.com/evenement/kids-club-chasse-aux-oeufs
LOCATION:Chez Auterson
CATEGORIES:Kid's club
END:VEVENT
BEGIN:VEVENT
DTSTART;TZID=Europe/Paris:20250406T100000
DTEND;TZID=Europe/Paris:20250406T104500
DTSTAMP:20260424T053736
CREATED:20250225T145515Z
LAST-MODIFIED:20250225T145515Z
UID:2014-1743933600-1743936300@eglisebblieusaint.com
SUMMARY:Étude biblique
DESCRIPTION:
URL:https://eglisebblieusaint.com/evenement/etude-biblique-20
LOCATION:Maison des Associations\, 5 Impasse du Moulin à Vent\, Lieusaint\, 77127
CATEGORIES:Étude biblique
END:VEVENT
BEGIN:VEVENT
DTSTART;TZID=Europe/Paris:20250406T110000
DTEND;TZID=Europe/Paris:20250406T110000
DTSTAMP:20260424T053736
CREATED:20250225T145848Z
LAST-MODIFIED:20250225T145848Z
UID:2024-1743937200-1743937200@eglisebblieusaint.com
SUMMARY:Culte
DESCRIPTION:Nous louons Dieu ensemble dans des chants et une prédication.
URL:https://eglisebblieusaint.com/evenement/culte-21
LOCATION:Maison des Associations\, 5 Impasse du Moulin à Vent\, Lieusaint\, 77127
CATEGORIES:Culte
ATTACH;FMTTYPE=image/jpeg:https://eglisebblieusaint.com/wp-content/uploads/2024/11/459085170_10162107462520139_4420698929922000788_n.jpg
END:VEVENT
BEGIN:VEVENT
DTSTART;TZID=Europe/Paris:20250406T163000
DTEND;TZID=Europe/Paris:20250406T163000
DTSTAMP:20260424T053736
CREATED:20250325T132507Z
LAST-MODIFIED:20250325T132507Z
UID:2091-1743957000-1743957000@eglisebblieusaint.com
SUMMARY:Activité de Pâques en famille
DESCRIPTION:
URL:https://eglisebblieusaint.com/evenement/activite-de-paques-en-famille
LOCATION:Chez Whittaker
END:VEVENT
BEGIN:VEVENT
DTSTART;TZID=Europe/Paris:20250408T190000
DTEND;TZID=Europe/Paris:20250408T210000
DTSTAMP:20260424T053736
CREATED:20250325T094002Z
LAST-MODIFIED:20250325T094002Z
UID:2065-1744138800-1744146000@eglisebblieusaint.com
SUMMARY:Reunion de prière
DESCRIPTION:
URL:https://eglisebblieusaint.com/evenement/reunion-de-priere-21
LOCATION:Chez Whittaker
CATEGORIES:La prière
END:VEVENT
BEGIN:VEVENT
DTSTART;TZID=Europe/Paris:20250410T160000
DTEND;TZID=Europe/Paris:20250410T173000
DTSTAMP:20260424T053736
CREATED:20250325T131701Z
LAST-MODIFIED:20250325T131701Z
UID:2083-1744300800-1744306200@eglisebblieusaint.com
SUMMARY:Visite hebdomadaire à la maison de retraite de St Pierre du Perray
DESCRIPTION:
URL:https://eglisebblieusaint.com/evenement/visite-hebdomadaire-a-la-maison-de-retraite-de-st-pierre-du-perray-15
LOCATION:Cedre Blue\, 12 Rue du Château\, Saint-Pierre-du-Perray\, 91280\, France
CATEGORIES:Visite à la maison de retraite
ATTACH;FMTTYPE=image/jpeg:https://eglisebblieusaint.com/wp-content/uploads/2024/11/CedreBleu-scaled.jpg
END:VEVENT
BEGIN:VEVENT
DTSTART;TZID=Europe/Paris:20250413T100000
DTEND;TZID=Europe/Paris:20250413T104500
DTSTAMP:20260424T053736
CREATED:20250325T131247Z
LAST-MODIFIED:20250325T131247Z
UID:2073-1744538400-1744541100@eglisebblieusaint.com
SUMMARY:Étude biblique
DESCRIPTION:
URL:https://eglisebblieusaint.com/evenement/etude-biblique-21
LOCATION:Maison des Associations\, 5 Impasse du Moulin à Vent\, Lieusaint\, 77127
CATEGORIES:Étude biblique
END:VEVENT
BEGIN:VEVENT
DTSTART;TZID=Europe/Paris:20250413T110000
DTEND;TZID=Europe/Paris:20250413T110000
DTSTAMP:20260424T053736
CREATED:20250325T131426Z
LAST-MODIFIED:20250325T131426Z
UID:2077-1744542000-1744542000@eglisebblieusaint.com
SUMMARY:Culte
DESCRIPTION:Nous louons Dieu ensemble dans des chants et une prédication.
URL:https://eglisebblieusaint.com/evenement/culte-22
LOCATION:Maison des Associations\, 5 Impasse du Moulin à Vent\, Lieusaint\, 77127
CATEGORIES:Culte
ATTACH;FMTTYPE=image/jpeg:https://eglisebblieusaint.com/wp-content/uploads/2024/11/459085170_10162107462520139_4420698929922000788_n.jpg
END:VEVENT
BEGIN:VEVENT
DTSTART;TZID=Europe/Paris:20250415T190000
DTEND;TZID=Europe/Paris:20250415T210000
DTSTAMP:20260424T053736
CREATED:20250325T094044Z
LAST-MODIFIED:20250325T094044Z
UID:2067-1744743600-1744750800@eglisebblieusaint.com
SUMMARY:Reunion de prière
DESCRIPTION:
URL:https://eglisebblieusaint.com/evenement/reunion-de-priere-22
LOCATION:Chez Auterson
CATEGORIES:La prière
END:VEVENT
BEGIN:VEVENT
DTSTART;TZID=Europe/Paris:20250417T160000
DTEND;TZID=Europe/Paris:20250417T173000
DTSTAMP:20260424T053736
CREATED:20250325T131726Z
LAST-MODIFIED:20250325T131726Z
UID:2085-1744905600-1744911000@eglisebblieusaint.com
SUMMARY:Visite hebdomadaire à la maison de retraite de St Pierre du Perray
DESCRIPTION:
URL:https://eglisebblieusaint.com/evenement/visite-hebdomadaire-a-la-maison-de-retraite-de-st-pierre-du-perray-16
LOCATION:Cedre Blue\, 12 Rue du Château\, Saint-Pierre-du-Perray\, 91280\, France
CATEGORIES:Visite à la maison de retraite
ATTACH;FMTTYPE=image/jpeg:https://eglisebblieusaint.com/wp-content/uploads/2024/11/CedreBleu-scaled.jpg
END:VEVENT
BEGIN:VEVENT
DTSTART;TZID=Europe/Paris:20250419T100000
DTEND;TZID=Europe/Paris:20250419T120000
DTSTAMP:20260424T053736
CREATED:20250325T133226Z
LAST-MODIFIED:20250325T133433Z
UID:2101-1745056800-1745064000@eglisebblieusaint.com
SUMMARY:Réunion d'hommes
DESCRIPTION:
URL:https://eglisebblieusaint.com/evenement/reunion-des-hommes-5
CATEGORIES:Réunion des hommes
ATTACH;FMTTYPE=image/jpeg:https://eglisebblieusaint.com/wp-content/uploads/2025/01/PXL_20250118_091809390.MP2_-scaled.jpg
END:VEVENT
BEGIN:VEVENT
DTSTART;TZID=Europe/Paris:20250420T110000
DTEND;TZID=Europe/Paris:20250420T110000
DTSTAMP:20260424T053736
CREATED:20250325T131537Z
LAST-MODIFIED:20250325T131537Z
UID:2079-1745146800-1745146800@eglisebblieusaint.com
SUMMARY:Culte Spécial de Pâques
DESCRIPTION:Nous louons Dieu ensemble dans des chants et une prédication.
URL:https://eglisebblieusaint.com/evenement/culte-special-de-paques
LOCATION:Maison des Associations\, 5 Impasse du Moulin à Vent\, Lieusaint\, 77127
CATEGORIES:Culte
ATTACH;FMTTYPE=image/jpeg:https://eglisebblieusaint.com/wp-content/uploads/2024/11/459085170_10162107462520139_4420698929922000788_n.jpg
END:VEVENT
BEGIN:VEVENT
DTSTART;TZID=Europe/Paris:20250422T190000
DTEND;TZID=Europe/Paris:20250422T210000
DTSTAMP:20260424T053736
CREATED:20250325T130958Z
LAST-MODIFIED:20250325T130958Z
UID:2069-1745348400-1745355600@eglisebblieusaint.com
SUMMARY:Reunion de prière
DESCRIPTION:
URL:https://eglisebblieusaint.com/evenement/reunion-de-priere-23
LOCATION:Chez Whittaker
CATEGORIES:La prière
END:VEVENT
BEGIN:VEVENT
DTSTART;TZID=Europe/Paris:20250424T160000
DTEND;TZID=Europe/Paris:20250424T173000
DTSTAMP:20260424T053736
CREATED:20250325T131757Z
LAST-MODIFIED:20250325T131757Z
UID:2087-1745510400-1745515800@eglisebblieusaint.com
SUMMARY:Visite hebdomadaire à la maison de retraite de St Pierre du Perray
DESCRIPTION:
URL:https://eglisebblieusaint.com/evenement/visite-hebdomadaire-a-la-maison-de-retraite-de-st-pierre-du-perray-17
LOCATION:Cedre Blue\, 12 Rue du Château\, Saint-Pierre-du-Perray\, 91280\, France
CATEGORIES:Visite à la maison de retraite
ATTACH;FMTTYPE=image/jpeg:https://eglisebblieusaint.com/wp-content/uploads/2024/11/CedreBleu-scaled.jpg
END:VEVENT
BEGIN:VEVENT
DTSTART;TZID=Europe/Paris:20250427T100000
DTEND;TZID=Europe/Paris:20250427T104500
DTSTAMP:20260424T053736
CREATED:20250325T131322Z
LAST-MODIFIED:20250325T131353Z
UID:2075-1745748000-1745750700@eglisebblieusaint.com
SUMMARY:Étude biblique
DESCRIPTION:
URL:https://eglisebblieusaint.com/evenement/etude-biblique-22
LOCATION:Maison des Associations\, 5 Impasse du Moulin à Vent\, Lieusaint\, 77127
CATEGORIES:Étude biblique
END:VEVENT
BEGIN:VEVENT
DTSTART;TZID=Europe/Paris:20250427T110000
DTEND;TZID=Europe/Paris:20250427T110000
DTSTAMP:20260424T053736
CREATED:20250325T131612Z
LAST-MODIFIED:20250325T131612Z
UID:2081-1745751600-1745751600@eglisebblieusaint.com
SUMMARY:Culte
DESCRIPTION:Nous louons Dieu ensemble dans des chants et une prédication.
URL:https://eglisebblieusaint.com/evenement/culte-23
LOCATION:Maison des Associations\, 5 Impasse du Moulin à Vent\, Lieusaint\, 77127
CATEGORIES:Culte
ATTACH;FMTTYPE=image/jpeg:https://eglisebblieusaint.com/wp-content/uploads/2024/11/459085170_10162107462520139_4420698929922000788_n.jpg
END:VEVENT
BEGIN:VEVENT
DTSTART;TZID=Europe/Paris:20250429T190000
DTEND;TZID=Europe/Paris:20250429T210000
DTSTAMP:20260424T053736
CREATED:20250325T131057Z
LAST-MODIFIED:20250325T131057Z
UID:2071-1745953200-1745960400@eglisebblieusaint.com
SUMMARY:Reunion de prière
DESCRIPTION:
URL:https://eglisebblieusaint.com/evenement/reunion-de-priere-24
LOCATION:Chez Auterson
CATEGORIES:La prière
END:VEVENT
END:VCALENDAR