BEGIN:VCALENDAR
VERSION:2.0
PRODID:-//Eglise Biblique Baptiste de Lieusaint - ECPv6.15.11//NONSGML v1.0//EN
CALSCALE:GREGORIAN
METHOD:PUBLISH
X-ORIGINAL-URL:https://eglisebblieusaint.com
X-WR-CALDESC:Évènements pour Eglise Biblique Baptiste de Lieusaint
REFRESH-INTERVAL;VALUE=DURATION:PT1H
X-Robots-Tag:noindex
X-PUBLISHED-TTL:PT1H
BEGIN:VTIMEZONE
TZID:Europe/Paris
BEGIN:DAYLIGHT
TZOFFSETFROM:+0100
TZOFFSETTO:+0200
TZNAME:CEST
DTSTART:20240331T010000
END:DAYLIGHT
BEGIN:STANDARD
TZOFFSETFROM:+0200
TZOFFSETTO:+0100
TZNAME:CET
DTSTART:20241027T010000
END:STANDARD
BEGIN:DAYLIGHT
TZOFFSETFROM:+0100
TZOFFSETTO:+0200
TZNAME:CEST
DTSTART:20250330T010000
END:DAYLIGHT
BEGIN:STANDARD
TZOFFSETFROM:+0200
TZOFFSETTO:+0100
TZNAME:CET
DTSTART:20251026T010000
END:STANDARD
BEGIN:DAYLIGHT
TZOFFSETFROM:+0100
TZOFFSETTO:+0200
TZNAME:CEST
DTSTART:20260329T010000
END:DAYLIGHT
BEGIN:STANDARD
TZOFFSETFROM:+0200
TZOFFSETTO:+0100
TZNAME:CET
DTSTART:20261025T010000
END:STANDARD
END:VTIMEZONE
BEGIN:VEVENT
DTSTART;TZID=Europe/Paris:20251102T100000
DTEND;TZID=Europe/Paris:20251102T104500
DTSTAMP:20260424T141810
CREATED:20250830T194531Z
LAST-MODIFIED:20250929T120657Z
UID:2415-1762077600-1762080300@eglisebblieusaint.com
SUMMARY:Étude biblique
DESCRIPTION:
URL:https://eglisebblieusaint.com/evenement/etude-biblique-34
LOCATION:Maison des Associations\, 5 Impasse du Moulin à Vent\, Lieusaint\, 77127
CATEGORIES:Étude biblique
END:VEVENT
BEGIN:VEVENT
DTSTART;TZID=Europe/Paris:20251102T110000
DTEND;TZID=Europe/Paris:20251102T120000
DTSTAMP:20260424T141810
CREATED:20250929T132016Z
LAST-MODIFIED:20250929T132016Z
UID:2536-1762081200-1762084800@eglisebblieusaint.com
SUMMARY:Culte
DESCRIPTION:Nous louons Dieu ensemble dans des chants et une prédication.
URL:https://eglisebblieusaint.com/evenement/culte-40
LOCATION:Maison des Associations\, 5 Impasse du Moulin à Vent\, Lieusaint\, 77127
CATEGORIES:Culte
ATTACH;FMTTYPE=image/jpeg:https://eglisebblieusaint.com/wp-content/uploads/2024/11/459085170_10162107462520139_4420698929922000788_n.jpg
END:VEVENT
BEGIN:VEVENT
DTSTART;TZID=Europe/Paris:20251104T190000
DTEND;TZID=Europe/Paris:20251104T210000
DTSTAMP:20260424T141810
CREATED:20251028T155632Z
LAST-MODIFIED:20251028T155632Z
UID:2588-1762282800-1762290000@eglisebblieusaint.com
SUMMARY:Reunion de prière
DESCRIPTION:
URL:https://eglisebblieusaint.com/evenement/reunion-de-priere-42
LOCATION:Chez Auterson
CATEGORIES:La prière
END:VEVENT
BEGIN:VEVENT
DTSTART;TZID=Europe/Paris:20251106T160000
DTEND;TZID=Europe/Paris:20251106T173000
DTSTAMP:20260424T141810
CREATED:20251028T160011Z
LAST-MODIFIED:20251028T160011Z
UID:2596-1762444800-1762450200@eglisebblieusaint.com
SUMMARY:Visite hebdomadaire à la maison de retraite de St Pierre du Perray
DESCRIPTION:
URL:https://eglisebblieusaint.com/evenement/visite-hebdomadaire-a-la-maison-de-retraite-de-st-pierre-du-perray-35
LOCATION:Cedre Blue\, 12 Rue du Château\, Saint-Pierre-du-Perray\, 91280\, France
CATEGORIES:Visite à la maison de retraite
ATTACH;FMTTYPE=image/jpeg:https://eglisebblieusaint.com/wp-content/uploads/2024/11/CedreBleu-scaled.jpg
END:VEVENT
BEGIN:VEVENT
DTSTART;TZID=Europe/Paris:20251108T150000
DTEND;TZID=Europe/Paris:20251108T170000
DTSTAMP:20260424T141810
CREATED:20251028T160435Z
LAST-MODIFIED:20251028T160435Z
UID:2604-1762614000-1762621200@eglisebblieusaint.com
SUMMARY:Kid's Club
DESCRIPTION:
URL:https://eglisebblieusaint.com/evenement/kids-club-13
LOCATION:Chez Auterson
CATEGORIES:Kid's club
END:VEVENT
BEGIN:VEVENT
DTSTART;TZID=Europe/Paris:20251108T161500
DTEND;TZID=Europe/Paris:20251108T180000
DTSTAMP:20260424T141810
CREATED:20251028T160556Z
LAST-MODIFIED:20251028T160556Z
UID:2606-1762618500-1762624800@eglisebblieusaint.com
SUMMARY:Club collégiens
DESCRIPTION:
URL:https://eglisebblieusaint.com/evenement/club-collegiens-3
LOCATION:Chez Whittaker
CATEGORIES:Club collégiens
END:VEVENT
BEGIN:VEVENT
DTSTART;TZID=Europe/Paris:20251109T100000
DTEND;TZID=Europe/Paris:20251109T104500
DTSTAMP:20260424T141810
CREATED:20251028T161439Z
LAST-MODIFIED:20251028T161439Z
UID:2620-1762682400-1762685100@eglisebblieusaint.com
SUMMARY:Étude biblique
DESCRIPTION:
URL:https://eglisebblieusaint.com/evenement/etude-biblique-38
LOCATION:Maison des Associations\, 5 Impasse du Moulin à Vent\, Lieusaint\, 77127
CATEGORIES:Étude biblique
END:VEVENT
BEGIN:VEVENT
DTSTART;TZID=Europe/Paris:20251109T110000
DTEND;TZID=Europe/Paris:20251109T120000
DTSTAMP:20260424T141810
CREATED:20251028T161117Z
LAST-MODIFIED:20251028T161117Z
UID:2612-1762686000-1762689600@eglisebblieusaint.com
SUMMARY:Culte
DESCRIPTION:Nous louons Dieu ensemble dans des chants et une prédication.
URL:https://eglisebblieusaint.com/evenement/culte-41
LOCATION:Maison des Associations\, 5 Impasse du Moulin à Vent\, Lieusaint\, 77127
CATEGORIES:Culte
ATTACH;FMTTYPE=image/jpeg:https://eglisebblieusaint.com/wp-content/uploads/2024/11/459085170_10162107462520139_4420698929922000788_n.jpg
END:VEVENT
BEGIN:VEVENT
DTSTART;TZID=Europe/Paris:20251111T190000
DTEND;TZID=Europe/Paris:20251111T210000
DTSTAMP:20260424T141810
CREATED:20251028T155733Z
LAST-MODIFIED:20251028T155733Z
UID:2590-1762887600-1762894800@eglisebblieusaint.com
SUMMARY:Reunion de prière
DESCRIPTION:
URL:https://eglisebblieusaint.com/evenement/reunion-de-priere-43
LOCATION:Chez Whittaker
CATEGORIES:La prière
END:VEVENT
BEGIN:VEVENT
DTSTART;TZID=Europe/Paris:20251113T160000
DTEND;TZID=Europe/Paris:20251113T173000
DTSTAMP:20260424T141810
CREATED:20251028T160125Z
LAST-MODIFIED:20251028T160125Z
UID:2597-1763049600-1763055000@eglisebblieusaint.com
SUMMARY:Visite hebdomadaire à la maison de retraite de St Pierre du Perray
DESCRIPTION:
URL:https://eglisebblieusaint.com/evenement/visite-hebdomadaire-a-la-maison-de-retraite-de-st-pierre-du-perray-36
LOCATION:Cedre Blue\, 12 Rue du Château\, Saint-Pierre-du-Perray\, 91280\, France
CATEGORIES:Visite à la maison de retraite
ATTACH;FMTTYPE=image/jpeg:https://eglisebblieusaint.com/wp-content/uploads/2024/11/CedreBleu-scaled.jpg
END:VEVENT
BEGIN:VEVENT
DTSTART;TZID=Europe/Paris:20251115T100000
DTEND;TZID=Europe/Paris:20251115T120000
DTSTAMP:20260424T141810
CREATED:20251028T160906Z
LAST-MODIFIED:20251028T160906Z
UID:2608-1763200800-1763208000@eglisebblieusaint.com
SUMMARY:Réunion des hommes
DESCRIPTION:
URL:https://eglisebblieusaint.com/evenement/reunion-des-hommes-9
CATEGORIES:Réunion des hommes
ATTACH;FMTTYPE=image/jpeg:https://eglisebblieusaint.com/wp-content/uploads/2025/01/PXL_20250118_091809390.MP2_-scaled.jpg
END:VEVENT
BEGIN:VEVENT
DTSTART;TZID=Europe/Paris:20251115T161500
DTEND;TZID=Europe/Paris:20251115T180000
DTSTAMP:20260424T141810
CREATED:20251028T161016Z
LAST-MODIFIED:20251028T161016Z
UID:2610-1763223300-1763229600@eglisebblieusaint.com
SUMMARY:Kid's Club
DESCRIPTION:
URL:https://eglisebblieusaint.com/evenement/kids-club-14
LOCATION:Chez Whittaker
CATEGORIES:Kid's club
END:VEVENT
BEGIN:VEVENT
DTSTART;TZID=Europe/Paris:20251115T190000
DTEND;TZID=Europe/Paris:20251115T210000
DTSTAMP:20260424T141810
CREATED:20250929T134102Z
LAST-MODIFIED:20250929T134811Z
UID:2560-1763233200-1763240400@eglisebblieusaint.com
SUMMARY:Le repas de Thanksgiving
DESCRIPTION:
URL:https://eglisebblieusaint.com/evenement/le-repas-de-thanksgiving
LOCATION:Maison des Associations\, 5 Impasse du Moulin à Vent\, Lieusaint\, 77127
CATEGORIES:Le repas de Thanksgiving
END:VEVENT
BEGIN:VEVENT
DTSTART;TZID=Europe/Paris:20251116T100000
DTEND;TZID=Europe/Paris:20251116T104500
DTSTAMP:20260424T141810
CREATED:20251028T161506Z
LAST-MODIFIED:20251028T161506Z
UID:2622-1763287200-1763289900@eglisebblieusaint.com
SUMMARY:Étude biblique
DESCRIPTION:
URL:https://eglisebblieusaint.com/evenement/etude-biblique-39
LOCATION:Maison des Associations\, 5 Impasse du Moulin à Vent\, Lieusaint\, 77127
CATEGORIES:Étude biblique
END:VEVENT
BEGIN:VEVENT
DTSTART;TZID=Europe/Paris:20251116T110000
DTEND;TZID=Europe/Paris:20251116T120000
DTSTAMP:20260424T141810
CREATED:20251028T161153Z
LAST-MODIFIED:20251028T161153Z
UID:2614-1763290800-1763294400@eglisebblieusaint.com
SUMMARY:Culte
DESCRIPTION:Nous louons Dieu ensemble dans des chants et une prédication.
URL:https://eglisebblieusaint.com/evenement/culte-42
LOCATION:Maison des Associations\, 5 Impasse du Moulin à Vent\, Lieusaint\, 77127
CATEGORIES:Culte
ATTACH;FMTTYPE=image/jpeg:https://eglisebblieusaint.com/wp-content/uploads/2024/11/459085170_10162107462520139_4420698929922000788_n.jpg
END:VEVENT
BEGIN:VEVENT
DTSTART;TZID=Europe/Paris:20251118T190000
DTEND;TZID=Europe/Paris:20251118T210000
DTSTAMP:20260424T141810
CREATED:20251028T155818Z
LAST-MODIFIED:20251028T155818Z
UID:2592-1763492400-1763499600@eglisebblieusaint.com
SUMMARY:Reunion de prière
DESCRIPTION:
URL:https://eglisebblieusaint.com/evenement/reunion-de-priere-44
LOCATION:Chez Auterson
CATEGORIES:La prière
END:VEVENT
BEGIN:VEVENT
DTSTART;TZID=Europe/Paris:20251120T160000
DTEND;TZID=Europe/Paris:20251120T173000
DTSTAMP:20260424T141810
CREATED:20251028T160157Z
LAST-MODIFIED:20251028T160157Z
UID:2600-1763654400-1763659800@eglisebblieusaint.com
SUMMARY:Visite hebdomadaire à la maison de retraite de St Pierre du Perray
DESCRIPTION:
URL:https://eglisebblieusaint.com/evenement/visite-hebdomadaire-a-la-maison-de-retraite-de-st-pierre-du-perray-37
LOCATION:Cedre Blue\, 12 Rue du Château\, Saint-Pierre-du-Perray\, 91280\, France
CATEGORIES:Visite à la maison de retraite
ATTACH;FMTTYPE=image/jpeg:https://eglisebblieusaint.com/wp-content/uploads/2024/11/CedreBleu-scaled.jpg
END:VEVENT
BEGIN:VEVENT
DTSTART;TZID=Europe/Paris:20251122T160000
DTEND;TZID=Europe/Paris:20251122T180000
DTSTAMP:20260424T141810
CREATED:20251028T161701Z
LAST-MODIFIED:20251028T161701Z
UID:2628-1763827200-1763834400@eglisebblieusaint.com
SUMMARY:Réunion des femmes
DESCRIPTION:
URL:https://eglisebblieusaint.com/evenement/reunion-des-femmes-6
CATEGORIES:Réunion des femmes
ATTACH;FMTTYPE=image/jpeg:https://eglisebblieusaint.com/wp-content/uploads/2024/11/20240622_210541-scaled.jpg
END:VEVENT
BEGIN:VEVENT
DTSTART;TZID=Europe/Paris:20251123T100000
DTEND;TZID=Europe/Paris:20251123T104500
DTSTAMP:20260424T141810
CREATED:20251028T161534Z
LAST-MODIFIED:20251028T161534Z
UID:2624-1763892000-1763894700@eglisebblieusaint.com
SUMMARY:Étude biblique
DESCRIPTION:
URL:https://eglisebblieusaint.com/evenement/etude-biblique-40
LOCATION:Maison des Associations\, 5 Impasse du Moulin à Vent\, Lieusaint\, 77127
CATEGORIES:Étude biblique
END:VEVENT
BEGIN:VEVENT
DTSTART;TZID=Europe/Paris:20251123T110000
DTEND;TZID=Europe/Paris:20251123T120000
DTSTAMP:20260424T141810
CREATED:20251028T161235Z
LAST-MODIFIED:20251028T161235Z
UID:2616-1763895600-1763899200@eglisebblieusaint.com
SUMMARY:Culte
DESCRIPTION:Nous louons Dieu ensemble dans des chants et une prédication.
URL:https://eglisebblieusaint.com/evenement/culte-43
LOCATION:Maison des Associations\, 5 Impasse du Moulin à Vent\, Lieusaint\, 77127
CATEGORIES:Culte
ATTACH;FMTTYPE=image/jpeg:https://eglisebblieusaint.com/wp-content/uploads/2024/11/459085170_10162107462520139_4420698929922000788_n.jpg
END:VEVENT
BEGIN:VEVENT
DTSTART;TZID=Europe/Paris:20251125T190000
DTEND;TZID=Europe/Paris:20251125T210000
DTSTAMP:20260424T141810
CREATED:20251028T155904Z
LAST-MODIFIED:20251028T155904Z
UID:2594-1764097200-1764104400@eglisebblieusaint.com
SUMMARY:Reunion de prière
DESCRIPTION:
URL:https://eglisebblieusaint.com/evenement/reunion-de-priere-45
LOCATION:Chez Whittaker
CATEGORIES:La prière
END:VEVENT
BEGIN:VEVENT
DTSTART;TZID=Europe/Paris:20251127T160000
DTEND;TZID=Europe/Paris:20251127T173000
DTSTAMP:20260424T141810
CREATED:20251028T160231Z
LAST-MODIFIED:20251028T160231Z
UID:2602-1764259200-1764264600@eglisebblieusaint.com
SUMMARY:Visite hebdomadaire à la maison de retraite de St Pierre du Perray
DESCRIPTION:
URL:https://eglisebblieusaint.com/evenement/visite-hebdomadaire-a-la-maison-de-retraite-de-st-pierre-du-perray-38
LOCATION:Cedre Blue\, 12 Rue du Château\, Saint-Pierre-du-Perray\, 91280\, France
CATEGORIES:Visite à la maison de retraite
ATTACH;FMTTYPE=image/jpeg:https://eglisebblieusaint.com/wp-content/uploads/2024/11/CedreBleu-scaled.jpg
END:VEVENT
BEGIN:VEVENT
DTSTART;TZID=Europe/Paris:20251130T100000
DTEND;TZID=Europe/Paris:20251130T104500
DTSTAMP:20260424T141810
CREATED:20251028T161600Z
LAST-MODIFIED:20251028T161600Z
UID:2626-1764496800-1764499500@eglisebblieusaint.com
SUMMARY:Étude biblique
DESCRIPTION:
URL:https://eglisebblieusaint.com/evenement/etude-biblique-41
LOCATION:Maison des Associations\, 5 Impasse du Moulin à Vent\, Lieusaint\, 77127
CATEGORIES:Étude biblique
END:VEVENT
BEGIN:VEVENT
DTSTART;TZID=Europe/Paris:20251130T110000
DTEND;TZID=Europe/Paris:20251130T120000
DTSTAMP:20260424T141810
CREATED:20251028T161307Z
LAST-MODIFIED:20251028T161307Z
UID:2618-1764500400-1764504000@eglisebblieusaint.com
SUMMARY:Culte
DESCRIPTION:Nous louons Dieu ensemble dans des chants et une prédication.
URL:https://eglisebblieusaint.com/evenement/culte-44
LOCATION:Maison des Associations\, 5 Impasse du Moulin à Vent\, Lieusaint\, 77127
CATEGORIES:Culte
ATTACH;FMTTYPE=image/jpeg:https://eglisebblieusaint.com/wp-content/uploads/2024/11/459085170_10162107462520139_4420698929922000788_n.jpg
END:VEVENT
END:VCALENDAR