BEGIN:VCALENDAR
VERSION:2.0
PRODID:-//Eglise Biblique Baptiste de Lieusaint - ECPv6.15.11//NONSGML v1.0//EN
CALSCALE:GREGORIAN
METHOD:PUBLISH
X-ORIGINAL-URL:https://eglisebblieusaint.com
X-WR-CALDESC:Évènements pour Eglise Biblique Baptiste de Lieusaint
REFRESH-INTERVAL;VALUE=DURATION:PT1H
X-Robots-Tag:noindex
X-PUBLISHED-TTL:PT1H
BEGIN:VTIMEZONE
TZID:Europe/Paris
BEGIN:DAYLIGHT
TZOFFSETFROM:+0100
TZOFFSETTO:+0200
TZNAME:CEST
DTSTART:20240331T010000
END:DAYLIGHT
BEGIN:STANDARD
TZOFFSETFROM:+0200
TZOFFSETTO:+0100
TZNAME:CET
DTSTART:20241027T010000
END:STANDARD
BEGIN:DAYLIGHT
TZOFFSETFROM:+0100
TZOFFSETTO:+0200
TZNAME:CEST
DTSTART:20250330T010000
END:DAYLIGHT
BEGIN:STANDARD
TZOFFSETFROM:+0200
TZOFFSETTO:+0100
TZNAME:CET
DTSTART:20251026T010000
END:STANDARD
BEGIN:DAYLIGHT
TZOFFSETFROM:+0100
TZOFFSETTO:+0200
TZNAME:CEST
DTSTART:20260329T010000
END:DAYLIGHT
BEGIN:STANDARD
TZOFFSETFROM:+0200
TZOFFSETTO:+0100
TZNAME:CET
DTSTART:20261025T010000
END:STANDARD
END:VTIMEZONE
BEGIN:VEVENT
DTSTART;TZID=Europe/Paris:20251202T190000
DTEND;TZID=Europe/Paris:20251202T210000
DTSTAMP:20260424T125155
CREATED:20251126T172834Z
LAST-MODIFIED:20251126T172834Z
UID:2739-1764702000-1764709200@eglisebblieusaint.com
SUMMARY:Reunion de prière
DESCRIPTION:
URL:https://eglisebblieusaint.com/evenement/reunion-de-priere-46
LOCATION:Chez Auterson
CATEGORIES:La prière
END:VEVENT
BEGIN:VEVENT
DTSTART;TZID=Europe/Paris:20251204T160000
DTEND;TZID=Europe/Paris:20251204T173000
DTSTAMP:20260424T125155
CREATED:20251126T200352Z
LAST-MODIFIED:20251126T200352Z
UID:2771-1764864000-1764869400@eglisebblieusaint.com
SUMMARY:Visite hebdomadaire à la maison de retraite de St Pierre du Perray
DESCRIPTION:
URL:https://eglisebblieusaint.com/evenement/visite-hebdomadaire-a-la-maison-de-retraite-de-st-pierre-du-perray-39
LOCATION:Cedre Blue\, 12 Rue du Château\, Saint-Pierre-du-Perray\, 91280\, France
CATEGORIES:Visite à la maison de retraite
ATTACH;FMTTYPE=image/jpeg:https://eglisebblieusaint.com/wp-content/uploads/2024/11/CedreBleu-scaled.jpg
END:VEVENT
BEGIN:VEVENT
DTSTART;TZID=Europe/Paris:20251206T143000
DTEND;TZID=Europe/Paris:20251206T173000
DTSTAMP:20260424T125155
CREATED:20251126T174816Z
LAST-MODIFIED:20251126T174816Z
UID:2765-1765031400-1765042200@eglisebblieusaint.com
SUMMARY:Marché de Noël | St Pierre du Perray
DESCRIPTION:
URL:https://eglisebblieusaint.com/evenement/marche-de-noel-st-pierre-du-perray
CATEGORIES:Chorale
END:VEVENT
BEGIN:VEVENT
DTSTART;TZID=Europe/Paris:20251206T150000
DTEND;TZID=Europe/Paris:20251206T174500
DTSTAMP:20260424T125155
CREATED:20251126T174516Z
LAST-MODIFIED:20251126T174516Z
UID:2763-1765033200-1765043100@eglisebblieusaint.com
SUMMARY:Kid's Club
DESCRIPTION:
URL:https://eglisebblieusaint.com/evenement/kids-club-15
LOCATION:Chez Auterson
CATEGORIES:Kid's club
END:VEVENT
BEGIN:VEVENT
DTSTART;TZID=Europe/Paris:20251207T100000
DTEND;TZID=Europe/Paris:20251207T104500
DTSTAMP:20260424T125155
CREATED:20251126T173544Z
LAST-MODIFIED:20251126T173544Z
UID:2749-1765101600-1765104300@eglisebblieusaint.com
SUMMARY:Étude biblique
DESCRIPTION:
URL:https://eglisebblieusaint.com/evenement/etude-biblique-42
LOCATION:Maison des Associations\, 5 Impasse du Moulin à Vent\, Lieusaint\, 77127
CATEGORIES:Étude biblique
END:VEVENT
BEGIN:VEVENT
DTSTART;TZID=Europe/Paris:20251207T110000
DTEND;TZID=Europe/Paris:20251207T120000
DTSTAMP:20260424T125155
CREATED:20251126T173818Z
LAST-MODIFIED:20251126T173818Z
UID:2755-1765105200-1765108800@eglisebblieusaint.com
SUMMARY:Culte
DESCRIPTION:Nous louons Dieu ensemble dans des chants et une prédication.
URL:https://eglisebblieusaint.com/evenement/culte-45
LOCATION:Maison des Associations\, 5 Impasse du Moulin à Vent\, Lieusaint\, 77127
CATEGORIES:Culte
ATTACH;FMTTYPE=image/jpeg:https://eglisebblieusaint.com/wp-content/uploads/2024/11/459085170_10162107462520139_4420698929922000788_n.jpg
END:VEVENT
BEGIN:VEVENT
DTSTART;TZID=Europe/Paris:20251209T190000
DTEND;TZID=Europe/Paris:20251209T210000
DTSTAMP:20260424T125155
CREATED:20251126T172953Z
LAST-MODIFIED:20251126T172953Z
UID:2741-1765306800-1765314000@eglisebblieusaint.com
SUMMARY:Reunion de prière
DESCRIPTION:
URL:https://eglisebblieusaint.com/evenement/reunion-de-priere-47
LOCATION:Chez Whittaker
CATEGORIES:La prière
END:VEVENT
BEGIN:VEVENT
DTSTART;TZID=Europe/Paris:20251211T160000
DTEND;TZID=Europe/Paris:20251211T173000
DTSTAMP:20260424T125155
CREATED:20251126T200517Z
LAST-MODIFIED:20251126T200517Z
UID:2773-1765468800-1765474200@eglisebblieusaint.com
SUMMARY:Visite hebdomadaire à la maison de retraite de St Pierre du Perray
DESCRIPTION:
URL:https://eglisebblieusaint.com/evenement/visite-hebdomadaire-a-la-maison-de-retraite-de-st-pierre-du-perray-40
LOCATION:Cedre Blue\, 12 Rue du Château\, Saint-Pierre-du-Perray\, 91280\, France
CATEGORIES:Visite à la maison de retraite
ATTACH;FMTTYPE=image/jpeg:https://eglisebblieusaint.com/wp-content/uploads/2024/11/CedreBleu-scaled.jpg
END:VEVENT
BEGIN:VEVENT
DTSTART;TZID=Europe/Paris:20251213T090000
DTEND;TZID=Europe/Paris:20251213T170000
DTSTAMP:20260424T125155
CREATED:20251203T085426Z
LAST-MODIFIED:20251203T085426Z
UID:2842-1765616400-1765645200@eglisebblieusaint.com
SUMMARY:JAD Marché de Noël Reims
DESCRIPTION:
URL:https://eglisebblieusaint.com/evenement/jad-marche-de-noel-reims
END:VEVENT
BEGIN:VEVENT
DTSTART;TZID=Europe/Paris:20251214T103000
DTEND;TZID=Europe/Paris:20251214T120000
DTSTAMP:20260424T125155
CREATED:20251126T174213Z
LAST-MODIFIED:20251126T174213Z
UID:2761-1765708200-1765713600@eglisebblieusaint.com
SUMMARY:Programme de Noël !!
DESCRIPTION:( Répetition à 9h30 }
URL:https://eglisebblieusaint.com/evenement/programme-de-noel
LOCATION:Maison des Associations\, 5 Impasse du Moulin à Vent\, Lieusaint\, 77127
CATEGORIES:Culte
ATTACH;FMTTYPE=image/jpeg:https://eglisebblieusaint.com/wp-content/uploads/2024/11/459085170_10162107462520139_4420698929922000788_n.jpg
END:VEVENT
BEGIN:VEVENT
DTSTART;TZID=Europe/Paris:20251216T190000
DTEND;TZID=Europe/Paris:20251216T210000
DTSTAMP:20260424T125155
CREATED:20251126T173035Z
LAST-MODIFIED:20251126T173035Z
UID:2743-1765911600-1765918800@eglisebblieusaint.com
SUMMARY:Reunion de prière
DESCRIPTION:
URL:https://eglisebblieusaint.com/evenement/reunion-de-priere-48
LOCATION:Chez Auterson
CATEGORIES:La prière
END:VEVENT
BEGIN:VEVENT
DTSTART;TZID=Europe/Paris:20251218T160000
DTEND;TZID=Europe/Paris:20251218T173000
DTSTAMP:20260424T125155
CREATED:20251126T200549Z
LAST-MODIFIED:20251126T200549Z
UID:2775-1766073600-1766079000@eglisebblieusaint.com
SUMMARY:Visite hebdomadaire à la maison de retraite de St Pierre du Perray
DESCRIPTION:
URL:https://eglisebblieusaint.com/evenement/visite-hebdomadaire-a-la-maison-de-retraite-de-st-pierre-du-perray-41
LOCATION:Cedre Blue\, 12 Rue du Château\, Saint-Pierre-du-Perray\, 91280\, France
CATEGORIES:Visite à la maison de retraite
ATTACH;FMTTYPE=image/jpeg:https://eglisebblieusaint.com/wp-content/uploads/2024/11/CedreBleu-scaled.jpg
END:VEVENT
BEGIN:VEVENT
DTSTART;TZID=Europe/Paris:20251219T190000
DTEND;TZID=Europe/Paris:20251219T203000
DTSTAMP:20260424T125155
CREATED:20251126T175110Z
LAST-MODIFIED:20251126T175110Z
UID:2767-1766170800-1766176200@eglisebblieusaint.com
SUMMARY:Club des ados
DESCRIPTION:
URL:https://eglisebblieusaint.com/evenement/club-des-ados
LOCATION:Chez Whittaker
CATEGORIES:Club ados
END:VEVENT
BEGIN:VEVENT
DTSTART;TZID=Europe/Paris:20251221T100000
DTEND;TZID=Europe/Paris:20251221T104500
DTSTAMP:20260424T125155
CREATED:20251126T173638Z
LAST-MODIFIED:20251126T173638Z
UID:2751-1766311200-1766313900@eglisebblieusaint.com
SUMMARY:Étude biblique
DESCRIPTION:
URL:https://eglisebblieusaint.com/evenement/etude-biblique-43
LOCATION:Maison des Associations\, 5 Impasse du Moulin à Vent\, Lieusaint\, 77127
CATEGORIES:Étude biblique
END:VEVENT
BEGIN:VEVENT
DTSTART;TZID=Europe/Paris:20251221T110000
DTEND;TZID=Europe/Paris:20251221T120000
DTSTAMP:20260424T125155
CREATED:20251126T173843Z
LAST-MODIFIED:20251126T173843Z
UID:2757-1766314800-1766318400@eglisebblieusaint.com
SUMMARY:Culte
DESCRIPTION:Nous louons Dieu ensemble dans des chants et une prédication.
URL:https://eglisebblieusaint.com/evenement/culte-46
LOCATION:Maison des Associations\, 5 Impasse du Moulin à Vent\, Lieusaint\, 77127
CATEGORIES:Culte
ATTACH;FMTTYPE=image/jpeg:https://eglisebblieusaint.com/wp-content/uploads/2024/11/459085170_10162107462520139_4420698929922000788_n.jpg
END:VEVENT
BEGIN:VEVENT
DTSTART;TZID=Europe/Paris:20251223T190000
DTEND;TZID=Europe/Paris:20251223T210000
DTSTAMP:20260424T125155
CREATED:20251126T173218Z
LAST-MODIFIED:20251126T173218Z
UID:2745-1766516400-1766523600@eglisebblieusaint.com
SUMMARY:Pas de reunion
DESCRIPTION:
URL:https://eglisebblieusaint.com/evenement/pas-de-reunion-3
CATEGORIES:La prière
END:VEVENT
BEGIN:VEVENT
DTSTART;TZID=Europe/Paris:20251227T160000
DTEND;TZID=Europe/Paris:20251227T160000
DTSTAMP:20260424T125155
CREATED:20251126T175245Z
LAST-MODIFIED:20251126T175245Z
UID:2769-1766851200-1766851200@eglisebblieusaint.com
SUMMARY:Christmas tea pour les femmes
DESCRIPTION:
URL:https://eglisebblieusaint.com/evenement/christmas-tea-pour-les-femmes
LOCATION:Chez Auterson
CATEGORIES:Réunion des femmes
END:VEVENT
BEGIN:VEVENT
DTSTART;TZID=Europe/Paris:20251228T100000
DTEND;TZID=Europe/Paris:20251228T104500
DTSTAMP:20260424T125155
CREATED:20251126T173658Z
LAST-MODIFIED:20251126T173658Z
UID:2753-1766916000-1766918700@eglisebblieusaint.com
SUMMARY:Étude biblique
DESCRIPTION:
URL:https://eglisebblieusaint.com/evenement/etude-biblique-44
LOCATION:Maison des Associations\, 5 Impasse du Moulin à Vent\, Lieusaint\, 77127
CATEGORIES:Étude biblique
END:VEVENT
BEGIN:VEVENT
DTSTART;TZID=Europe/Paris:20251228T110000
DTEND;TZID=Europe/Paris:20251228T120000
DTSTAMP:20260424T125155
CREATED:20251126T173904Z
LAST-MODIFIED:20251126T173904Z
UID:2759-1766919600-1766923200@eglisebblieusaint.com
SUMMARY:Culte
DESCRIPTION:Nous louons Dieu ensemble dans des chants et une prédication.
URL:https://eglisebblieusaint.com/evenement/culte-47
LOCATION:Maison des Associations\, 5 Impasse du Moulin à Vent\, Lieusaint\, 77127
CATEGORIES:Culte
ATTACH;FMTTYPE=image/jpeg:https://eglisebblieusaint.com/wp-content/uploads/2024/11/459085170_10162107462520139_4420698929922000788_n.jpg
END:VEVENT
BEGIN:VEVENT
DTSTART;TZID=Europe/Paris:20251230T190000
DTEND;TZID=Europe/Paris:20251230T210000
DTSTAMP:20260424T125155
CREATED:20251126T173251Z
LAST-MODIFIED:20251126T173251Z
UID:2747-1767121200-1767128400@eglisebblieusaint.com
SUMMARY:Pas de reunion
DESCRIPTION:
URL:https://eglisebblieusaint.com/evenement/pas-de-reunion-4
CATEGORIES:La prière
END:VEVENT
END:VCALENDAR