BEGIN:VCALENDAR
VERSION:2.0
PRODID:-//Eglise Biblique Baptiste de Lieusaint - ECPv6.15.11//NONSGML v1.0//EN
CALSCALE:GREGORIAN
METHOD:PUBLISH
X-ORIGINAL-URL:https://eglisebblieusaint.com
X-WR-CALDESC:Évènements pour Eglise Biblique Baptiste de Lieusaint
REFRESH-INTERVAL;VALUE=DURATION:PT1H
X-Robots-Tag:noindex
X-PUBLISHED-TTL:PT1H
BEGIN:VTIMEZONE
TZID:Europe/Paris
BEGIN:DAYLIGHT
TZOFFSETFROM:+0100
TZOFFSETTO:+0200
TZNAME:CEST
DTSTART:20250330T010000
END:DAYLIGHT
BEGIN:STANDARD
TZOFFSETFROM:+0200
TZOFFSETTO:+0100
TZNAME:CET
DTSTART:20251026T010000
END:STANDARD
BEGIN:DAYLIGHT
TZOFFSETFROM:+0100
TZOFFSETTO:+0200
TZNAME:CEST
DTSTART:20260329T010000
END:DAYLIGHT
BEGIN:STANDARD
TZOFFSETFROM:+0200
TZOFFSETTO:+0100
TZNAME:CET
DTSTART:20261025T010000
END:STANDARD
BEGIN:DAYLIGHT
TZOFFSETFROM:+0100
TZOFFSETTO:+0200
TZNAME:CEST
DTSTART:20270328T010000
END:DAYLIGHT
BEGIN:STANDARD
TZOFFSETFROM:+0200
TZOFFSETTO:+0100
TZNAME:CET
DTSTART:20271031T010000
END:STANDARD
END:VTIMEZONE
BEGIN:VEVENT
DTSTART;TZID=Europe/Paris:20260201T100000
DTEND;TZID=Europe/Paris:20260201T104500
DTSTAMP:20260424T095840
CREATED:20260102T143254Z
LAST-MODIFIED:20260126T092125Z
UID:3019-1769940000-1769942700@eglisebblieusaint.com
SUMMARY:La Sainte Cène et Étude biblique
DESCRIPTION:
URL:https://eglisebblieusaint.com/evenement/etude-biblique-48
LOCATION:Maison des Associations\, 5 Impasse du Moulin à Vent\, Lieusaint\, 77127
CATEGORIES:Étude biblique
END:VEVENT
BEGIN:VEVENT
DTSTART;TZID=Europe/Paris:20260201T110000
DTEND;TZID=Europe/Paris:20260201T120000
DTSTAMP:20260424T095840
CREATED:20260102T143337Z
LAST-MODIFIED:20260126T092221Z
UID:3021-1769943600-1769947200@eglisebblieusaint.com
SUMMARY:Culte
DESCRIPTION:Nous louons Dieu ensemble dans des chants et une prédication.
URL:https://eglisebblieusaint.com/evenement/culte-52
LOCATION:Maison des Associations\, 5 Impasse du Moulin à Vent\, Lieusaint\, 77127
CATEGORIES:Culte
ATTACH;FMTTYPE=image/jpeg:https://eglisebblieusaint.com/wp-content/uploads/2024/11/459085170_10162107462520139_4420698929922000788_n.jpg
END:VEVENT
BEGIN:VEVENT
DTSTART;TZID=Europe/Paris:20260203T190000
DTEND;TZID=Europe/Paris:20260203T210000
DTSTAMP:20260424T095840
CREATED:20260126T091329Z
LAST-MODIFIED:20260126T091329Z
UID:3104-1770145200-1770152400@eglisebblieusaint.com
SUMMARY:Reunion de prière
DESCRIPTION:
URL:https://eglisebblieusaint.com/evenement/reunion-de-priere-53
LOCATION:Chez Whittaker
CATEGORIES:La prière
END:VEVENT
BEGIN:VEVENT
DTSTART;TZID=Europe/Paris:20260205T160000
DTEND;TZID=Europe/Paris:20260205T173000
DTSTAMP:20260424T095840
CREATED:20260126T092834Z
LAST-MODIFIED:20260126T092834Z
UID:3124-1770307200-1770312600@eglisebblieusaint.com
SUMMARY:Visite hebdomadaire à la maison de retraite de St Pierre du Perray
DESCRIPTION:
URL:https://eglisebblieusaint.com/evenement/visite-hebdomadaire-a-la-maison-de-retraite-de-st-pierre-du-perray-47
LOCATION:Cedre Blue\, 12 Rue du Château\, Saint-Pierre-du-Perray\, 91280\, France
CATEGORIES:Visite à la maison de retraite
ATTACH;FMTTYPE=image/jpeg:https://eglisebblieusaint.com/wp-content/uploads/2026/01/PANO_20251106_174841-scaled.jpg
END:VEVENT
BEGIN:VEVENT
DTSTART;TZID=Europe/Paris:20260207T150000
DTEND;TZID=Europe/Paris:20260207T170000
DTSTAMP:20260424T095840
CREATED:20260201T125807Z
LAST-MODIFIED:20260201T125807Z
UID:3143-1770476400-1770483600@eglisebblieusaint.com
SUMMARY:Kids Club
DESCRIPTION:
URL:https://eglisebblieusaint.com/evenement/kids-club-18
LOCATION:Hall U Need\, 18 Trait d'union\, Lieusaint\, 77127\, France
CATEGORIES:Kid's club
END:VEVENT
BEGIN:VEVENT
DTSTART;TZID=Europe/Paris:20260208T100000
DTEND;TZID=Europe/Paris:20260208T104500
DTSTAMP:20260424T095840
CREATED:20260126T091940Z
LAST-MODIFIED:20260126T091940Z
UID:3118-1770544800-1770547500@eglisebblieusaint.com
SUMMARY:Étude biblique
DESCRIPTION:
URL:https://eglisebblieusaint.com/evenement/etude-biblique-49
LOCATION:Maison des Associations\, 5 Impasse du Moulin à Vent\, Lieusaint\, 77127
CATEGORIES:Étude biblique
END:VEVENT
BEGIN:VEVENT
DTSTART;TZID=Europe/Paris:20260208T100000
DTEND;TZID=Europe/Paris:20260208T104500
DTSTAMP:20260424T095840
CREATED:20260228T130918Z
LAST-MODIFIED:20260228T130918Z
UID:3216-1770544800-1770547500@eglisebblieusaint.com
SUMMARY:La Sainte Cène
DESCRIPTION:
URL:https://eglisebblieusaint.com/evenement/la-sainte-cene
LOCATION:Maison des Associations\, 5 Impasse du Moulin à Vent\, Lieusaint\, 77127
CATEGORIES:La sainte cène
END:VEVENT
BEGIN:VEVENT
DTSTART;TZID=Europe/Paris:20260208T110000
DTEND;TZID=Europe/Paris:20260208T120000
DTSTAMP:20260424T095840
CREATED:20260126T091652Z
LAST-MODIFIED:20260126T091652Z
UID:3112-1770548400-1770552000@eglisebblieusaint.com
SUMMARY:Culte
DESCRIPTION:Nous louons Dieu ensemble dans des chants et une prédication.
URL:https://eglisebblieusaint.com/evenement/culte-53
LOCATION:Maison des Associations\, 5 Impasse du Moulin à Vent\, Lieusaint\, 77127
CATEGORIES:Culte
ATTACH;FMTTYPE=image/jpeg:https://eglisebblieusaint.com/wp-content/uploads/2024/11/459085170_10162107462520139_4420698929922000788_n.jpg
END:VEVENT
BEGIN:VEVENT
DTSTART;TZID=Europe/Paris:20260210T190000
DTEND;TZID=Europe/Paris:20260210T210000
DTSTAMP:20260424T095840
CREATED:20260126T091425Z
LAST-MODIFIED:20260126T091425Z
UID:3106-1770750000-1770757200@eglisebblieusaint.com
SUMMARY:Reunion de prière
DESCRIPTION:
URL:https://eglisebblieusaint.com/evenement/reunion-de-priere-54
LOCATION:Chez Auterson
CATEGORIES:La prière
END:VEVENT
BEGIN:VEVENT
DTSTART;TZID=Europe/Paris:20260212T160000
DTEND;TZID=Europe/Paris:20260212T173000
DTSTAMP:20260424T095840
CREATED:20260126T092921Z
LAST-MODIFIED:20260126T092921Z
UID:3128-1770912000-1770917400@eglisebblieusaint.com
SUMMARY:Visite hebdomadaire à la maison de retraite de St Pierre du Perray
DESCRIPTION:
URL:https://eglisebblieusaint.com/evenement/visite-hebdomadaire-a-la-maison-de-retraite-de-st-pierre-du-perray-48
LOCATION:Cedre Blue\, 12 Rue du Château\, Saint-Pierre-du-Perray\, 91280\, France
CATEGORIES:Visite à la maison de retraite
ATTACH;FMTTYPE=image/jpeg:https://eglisebblieusaint.com/wp-content/uploads/2026/01/PANO_20251106_174841-scaled.jpg
END:VEVENT
BEGIN:VEVENT
DTSTART;TZID=Europe/Paris:20260213T190000
DTEND;TZID=Europe/Paris:20260213T210000
DTSTAMP:20260424T095840
CREATED:20260201T124506Z
LAST-MODIFIED:20260201T124558Z
UID:3137-1771009200-1771016400@eglisebblieusaint.com
SUMMARY:Réunion Jeunes Adultes | Crêpes et jeux
DESCRIPTION:
URL:https://eglisebblieusaint.com/evenement/reunion-jeunes-adultes-crepes-et-jeux
CATEGORIES:Jeunes adultes
END:VEVENT
BEGIN:VEVENT
DTSTART;TZID=Europe/Paris:20260214T160000
DTEND;TZID=Europe/Paris:20260214T180000
DTSTAMP:20260424T095840
CREATED:20260211T124159Z
LAST-MODIFIED:20260211T124159Z
UID:3156-1771084800-1771092000@eglisebblieusaint.com
SUMMARY:Kids / Family club
DESCRIPTION:
URL:https://eglisebblieusaint.com/evenement/kids-family-club
LOCATION:Chez Whittaker
CATEGORIES:Club ados,Club collégiens,Jeunes adultes,Kid's club
END:VEVENT
BEGIN:VEVENT
DTSTART;TZID=Europe/Paris:20260215T100000
DTEND;TZID=Europe/Paris:20260215T104500
DTSTAMP:20260424T095840
CREATED:20260126T092008Z
LAST-MODIFIED:20260126T092008Z
UID:3120-1771149600-1771152300@eglisebblieusaint.com
SUMMARY:Étude biblique
DESCRIPTION:
URL:https://eglisebblieusaint.com/evenement/etude-biblique-50
LOCATION:Maison des Associations\, 5 Impasse du Moulin à Vent\, Lieusaint\, 77127
CATEGORIES:Étude biblique
END:VEVENT
BEGIN:VEVENT
DTSTART;TZID=Europe/Paris:20260215T110000
DTEND;TZID=Europe/Paris:20260215T120000
DTSTAMP:20260424T095840
CREATED:20260126T091719Z
LAST-MODIFIED:20260126T091719Z
UID:3114-1771153200-1771156800@eglisebblieusaint.com
SUMMARY:Culte
DESCRIPTION:Nous louons Dieu ensemble dans des chants et une prédication.
URL:https://eglisebblieusaint.com/evenement/culte-54
LOCATION:Maison des Associations\, 5 Impasse du Moulin à Vent\, Lieusaint\, 77127
CATEGORIES:Culte
ATTACH;FMTTYPE=image/jpeg:https://eglisebblieusaint.com/wp-content/uploads/2024/11/459085170_10162107462520139_4420698929922000788_n.jpg
END:VEVENT
BEGIN:VEVENT
DTSTART;TZID=Europe/Paris:20260217T190000
DTEND;TZID=Europe/Paris:20260217T210000
DTSTAMP:20260424T095840
CREATED:20260126T091501Z
LAST-MODIFIED:20260126T091501Z
UID:3108-1771354800-1771362000@eglisebblieusaint.com
SUMMARY:Reunion de prière
DESCRIPTION:
URL:https://eglisebblieusaint.com/evenement/reunion-de-priere-55
LOCATION:Chez Whittaker
CATEGORIES:La prière
END:VEVENT
BEGIN:VEVENT
DTSTART;TZID=Europe/Paris:20260219T160000
DTEND;TZID=Europe/Paris:20260219T173000
DTSTAMP:20260424T095840
CREATED:20260126T092944Z
LAST-MODIFIED:20260126T092944Z
UID:3130-1771516800-1771522200@eglisebblieusaint.com
SUMMARY:Visite hebdomadaire à la maison de retraite de St Pierre du Perray
DESCRIPTION:
URL:https://eglisebblieusaint.com/evenement/visite-hebdomadaire-a-la-maison-de-retraite-de-st-pierre-du-perray-49
LOCATION:Cedre Blue\, 12 Rue du Château\, Saint-Pierre-du-Perray\, 91280\, France
CATEGORIES:Visite à la maison de retraite
ATTACH;FMTTYPE=image/jpeg:https://eglisebblieusaint.com/wp-content/uploads/2026/01/PANO_20251106_174841-scaled.jpg
END:VEVENT
BEGIN:VEVENT
DTSTART;TZID=Europe/Paris:20260221T100000
DTEND;TZID=Europe/Paris:20260221T120000
DTSTAMP:20260424T095840
CREATED:20260201T125109Z
LAST-MODIFIED:20260201T125109Z
UID:3139-1771668000-1771675200@eglisebblieusaint.com
SUMMARY:Réunion d'hommes
DESCRIPTION:
URL:https://eglisebblieusaint.com/evenement/reunion-dhommes
CATEGORIES:Réunion des hommes
END:VEVENT
BEGIN:VEVENT
DTSTART;TZID=Europe/Paris:20260221T133000
DTEND;TZID=Europe/Paris:20260221T143000
DTSTAMP:20260424T095840
CREATED:20260211T124403Z
LAST-MODIFIED:20260211T124403Z
UID:3158-1771680600-1771684200@eglisebblieusaint.com
SUMMARY:Club d'ados
DESCRIPTION:
URL:https://eglisebblieusaint.com/evenement/club-dados-2
LOCATION:Patinoire
CATEGORIES:Club ados,Club collégiens et ados
END:VEVENT
BEGIN:VEVENT
DTSTART;TZID=Europe/Paris:20260222T100000
DTEND;TZID=Europe/Paris:20260222T104500
DTSTAMP:20260424T095840
CREATED:20260126T092032Z
LAST-MODIFIED:20260126T092032Z
UID:3122-1771754400-1771757100@eglisebblieusaint.com
SUMMARY:Étude biblique
DESCRIPTION:
URL:https://eglisebblieusaint.com/evenement/etude-biblique-51
LOCATION:Maison des Associations\, 5 Impasse du Moulin à Vent\, Lieusaint\, 77127
CATEGORIES:Étude biblique
END:VEVENT
BEGIN:VEVENT
DTSTART;TZID=Europe/Paris:20260222T110000
DTEND;TZID=Europe/Paris:20260222T120000
DTSTAMP:20260424T095840
CREATED:20260126T091746Z
LAST-MODIFIED:20260126T091746Z
UID:3116-1771758000-1771761600@eglisebblieusaint.com
SUMMARY:Culte
DESCRIPTION:Nous louons Dieu ensemble dans des chants et une prédication.
URL:https://eglisebblieusaint.com/evenement/culte-55
LOCATION:Maison des Associations\, 5 Impasse du Moulin à Vent\, Lieusaint\, 77127
CATEGORIES:Culte
ATTACH;FMTTYPE=image/jpeg:https://eglisebblieusaint.com/wp-content/uploads/2024/11/459085170_10162107462520139_4420698929922000788_n.jpg
END:VEVENT
BEGIN:VEVENT
DTSTART;TZID=Europe/Paris:20260224T190000
DTEND;TZID=Europe/Paris:20260224T210000
DTSTAMP:20260424T095840
CREATED:20260126T091532Z
LAST-MODIFIED:20260126T091532Z
UID:3110-1771959600-1771966800@eglisebblieusaint.com
SUMMARY:Reunion de prière
DESCRIPTION:
URL:https://eglisebblieusaint.com/evenement/reunion-de-priere-56
LOCATION:Chez Auterson
CATEGORIES:La prière
END:VEVENT
BEGIN:VEVENT
DTSTART;TZID=Europe/Paris:20260226T160000
DTEND;TZID=Europe/Paris:20260226T173000
DTSTAMP:20260424T095840
CREATED:20260126T093010Z
LAST-MODIFIED:20260126T093010Z
UID:3132-1772121600-1772127000@eglisebblieusaint.com
SUMMARY:Visite hebdomadaire à la maison de retraite de St Pierre du Perray
DESCRIPTION:
URL:https://eglisebblieusaint.com/evenement/visite-hebdomadaire-a-la-maison-de-retraite-de-st-pierre-du-perray-50
LOCATION:Cedre Blue\, 12 Rue du Château\, Saint-Pierre-du-Perray\, 91280\, France
CATEGORIES:Visite à la maison de retraite
ATTACH;FMTTYPE=image/jpeg:https://eglisebblieusaint.com/wp-content/uploads/2026/01/PANO_20251106_174841-scaled.jpg
END:VEVENT
BEGIN:VEVENT
DTSTART;TZID=Europe/Paris:20260228T180000
DTEND;TZID=Europe/Paris:20260228T200000
DTSTAMP:20260424T095840
CREATED:20260211T124605Z
LAST-MODIFIED:20260211T124605Z
UID:3161-1772301600-1772308800@eglisebblieusaint.com
SUMMARY:Réunion de Femmes : Thème : Le Pardon
DESCRIPTION:
URL:https://eglisebblieusaint.com/evenement/reunion-de-femmes-theme-le-pardon
LOCATION:Chez Auterson
CATEGORIES:Réunion des femmes
END:VEVENT
END:VCALENDAR