BEGIN:VCALENDAR
VERSION:2.0
PRODID:-//Eglise Biblique Baptiste de Lieusaint - ECPv6.15.11//NONSGML v1.0//EN
CALSCALE:GREGORIAN
METHOD:PUBLISH
X-ORIGINAL-URL:https://eglisebblieusaint.com
X-WR-CALDESC:Évènements pour Eglise Biblique Baptiste de Lieusaint
REFRESH-INTERVAL;VALUE=DURATION:PT1H
X-Robots-Tag:noindex
X-PUBLISHED-TTL:PT1H
BEGIN:VTIMEZONE
TZID:Europe/Paris
BEGIN:DAYLIGHT
TZOFFSETFROM:+0100
TZOFFSETTO:+0200
TZNAME:CEST
DTSTART:20250330T010000
END:DAYLIGHT
BEGIN:STANDARD
TZOFFSETFROM:+0200
TZOFFSETTO:+0100
TZNAME:CET
DTSTART:20251026T010000
END:STANDARD
BEGIN:DAYLIGHT
TZOFFSETFROM:+0100
TZOFFSETTO:+0200
TZNAME:CEST
DTSTART:20260329T010000
END:DAYLIGHT
BEGIN:STANDARD
TZOFFSETFROM:+0200
TZOFFSETTO:+0100
TZNAME:CET
DTSTART:20261025T010000
END:STANDARD
BEGIN:DAYLIGHT
TZOFFSETFROM:+0100
TZOFFSETTO:+0200
TZNAME:CEST
DTSTART:20270328T010000
END:DAYLIGHT
BEGIN:STANDARD
TZOFFSETFROM:+0200
TZOFFSETTO:+0100
TZNAME:CET
DTSTART:20271031T010000
END:STANDARD
END:VTIMEZONE
BEGIN:VEVENT
DTSTART;TZID=Europe/Paris:20260301T100000
DTEND;TZID=Europe/Paris:20260301T104500
DTSTAMP:20260424T082345
CREATED:20260228T130207Z
LAST-MODIFIED:20260228T130207Z
UID:3208-1772359200-1772361900@eglisebblieusaint.com
SUMMARY:Étude biblique
DESCRIPTION:
URL:https://eglisebblieusaint.com/evenement/etude-biblique-52
LOCATION:Maison des Associations\, 5 Impasse du Moulin à Vent\, Lieusaint\, 77127
CATEGORIES:Étude biblique
END:VEVENT
BEGIN:VEVENT
DTSTART;TZID=Europe/Paris:20260301T110000
DTEND;TZID=Europe/Paris:20260301T120000
DTSTAMP:20260424T082345
CREATED:20260228T125850Z
LAST-MODIFIED:20260228T125850Z
UID:3198-1772362800-1772366400@eglisebblieusaint.com
SUMMARY:Culte
DESCRIPTION:Nous louons Dieu ensemble dans des chants et une prédication.
URL:https://eglisebblieusaint.com/evenement/culte-56
LOCATION:Maison des Associations\, 5 Impasse du Moulin à Vent\, Lieusaint\, 77127
CATEGORIES:Culte
ATTACH;FMTTYPE=image/jpeg:https://eglisebblieusaint.com/wp-content/uploads/2024/11/459085170_10162107462520139_4420698929922000788_n.jpg
END:VEVENT
BEGIN:VEVENT
DTSTART;TZID=Europe/Paris:20260302T201500
DTEND;TZID=Europe/Paris:20260302T211500
DTSTAMP:20260424T082345
CREATED:20260228T132656Z
LAST-MODIFIED:20260228T132811Z
UID:3224-1772482500-1772486100@eglisebblieusaint.com
SUMMARY:Etude Biblique sur visio
DESCRIPTION:
URL:https://eglisebblieusaint.com/evenement/reunion-sur-visio
CATEGORIES:Étude biblique
END:VEVENT
BEGIN:VEVENT
DTSTART;TZID=Europe/Paris:20260303T190000
DTEND;TZID=Europe/Paris:20260303T210000
DTSTAMP:20260424T082345
CREATED:20260228T133226Z
LAST-MODIFIED:20260228T133226Z
UID:3236-1772564400-1772571600@eglisebblieusaint.com
SUMMARY:Reunion de prière
DESCRIPTION:
URL:https://eglisebblieusaint.com/evenement/reunion-de-priere-57
LOCATION:Chez Whittaker
CATEGORIES:La prière
END:VEVENT
BEGIN:VEVENT
DTSTART;TZID=Europe/Paris:20260306T160000
DTEND;TZID=Europe/Paris:20260306T173000
DTSTAMP:20260424T082345
CREATED:20260228T151747Z
LAST-MODIFIED:20260228T151747Z
UID:3247-1772812800-1772818200@eglisebblieusaint.com
SUMMARY:Visite hebdomadaire à la maison de retraite de St Pierre du Perray
DESCRIPTION:
URL:https://eglisebblieusaint.com/evenement/visite-hebdomadaire-a-la-maison-de-retraite-de-st-pierre-du-perray-51
LOCATION:Cedre Blue\, 12 Rue du Château\, Saint-Pierre-du-Perray\, 91280\, France
CATEGORIES:Visite à la maison de retraite
ATTACH;FMTTYPE=image/jpeg:https://eglisebblieusaint.com/wp-content/uploads/2026/01/PANO_20251106_174841-scaled.jpg
END:VEVENT
BEGIN:VEVENT
DTSTART;TZID=Europe/Paris:20260308T100000
DTEND;TZID=Europe/Paris:20260308T110000
DTSTAMP:20260424T082345
CREATED:20260228T131151Z
LAST-MODIFIED:20260228T131151Z
UID:3218-1772964000-1772967600@eglisebblieusaint.com
SUMMARY:Répitition Pâques
DESCRIPTION:
URL:https://eglisebblieusaint.com/evenement/repitition-paques
CATEGORIES:Chorale
END:VEVENT
BEGIN:VEVENT
DTSTART;TZID=Europe/Paris:20260308T110000
DTEND;TZID=Europe/Paris:20260308T120000
DTSTAMP:20260424T082345
CREATED:20260228T125923Z
LAST-MODIFIED:20260228T125923Z
UID:3200-1772967600-1772971200@eglisebblieusaint.com
SUMMARY:Culte
DESCRIPTION:Nous louons Dieu ensemble dans des chants et une prédication.
URL:https://eglisebblieusaint.com/evenement/culte-57
LOCATION:Maison des Associations\, 5 Impasse du Moulin à Vent\, Lieusaint\, 77127
CATEGORIES:Culte
ATTACH;FMTTYPE=image/jpeg:https://eglisebblieusaint.com/wp-content/uploads/2024/11/459085170_10162107462520139_4420698929922000788_n.jpg
END:VEVENT
BEGIN:VEVENT
DTSTART;TZID=Europe/Paris:20260309T201500
DTEND;TZID=Europe/Paris:20260309T211500
DTSTAMP:20260424T082345
CREATED:20260228T132848Z
LAST-MODIFIED:20260228T132848Z
UID:3228-1773087300-1773090900@eglisebblieusaint.com
SUMMARY:Etude Biblique sur visio
DESCRIPTION:
URL:https://eglisebblieusaint.com/evenement/etude-biblique-sur-visio
CATEGORIES:Étude biblique
END:VEVENT
BEGIN:VEVENT
DTSTART;TZID=Europe/Paris:20260310T190000
DTEND;TZID=Europe/Paris:20260310T210000
DTSTAMP:20260424T082345
CREATED:20260228T133308Z
LAST-MODIFIED:20260228T133308Z
UID:3239-1773169200-1773176400@eglisebblieusaint.com
SUMMARY:Reunion de prière
DESCRIPTION:
URL:https://eglisebblieusaint.com/evenement/reunion-de-priere-58
LOCATION:Chez Auterson
CATEGORIES:La prière
END:VEVENT
BEGIN:VEVENT
DTSTART;TZID=Europe/Paris:20260312T160000
DTEND;TZID=Europe/Paris:20260312T173000
DTSTAMP:20260424T082345
CREATED:20260228T151815Z
LAST-MODIFIED:20260228T151815Z
UID:3249-1773331200-1773336600@eglisebblieusaint.com
SUMMARY:Visite hebdomadaire à la maison de retraite de St Pierre du Perray
DESCRIPTION:
URL:https://eglisebblieusaint.com/evenement/visite-hebdomadaire-a-la-maison-de-retraite-de-st-pierre-du-perray-52
LOCATION:Cedre Blue\, 12 Rue du Château\, Saint-Pierre-du-Perray\, 91280\, France
CATEGORIES:Visite à la maison de retraite
ATTACH;FMTTYPE=image/jpeg:https://eglisebblieusaint.com/wp-content/uploads/2026/01/PANO_20251106_174841-scaled.jpg
END:VEVENT
BEGIN:VEVENT
DTSTART;TZID=Europe/Paris:20260314T190000
DTEND;TZID=Europe/Paris:20260314T210000
DTSTAMP:20260424T082345
CREATED:20260311T082652Z
LAST-MODIFIED:20260311T082652Z
UID:3284-1773514800-1773522000@eglisebblieusaint.com
SUMMARY:Club J-A* - Sortie LaserGame
DESCRIPTION:
URL:https://eglisebblieusaint.com/evenement/club-j-a-sortie-lasergame
CATEGORIES:Jeunes adultes
END:VEVENT
BEGIN:VEVENT
DTSTART;TZID=Europe/Paris:20260315T100000
DTEND;TZID=Europe/Paris:20260315T104500
DTSTAMP:20260424T082345
CREATED:20260228T130254Z
LAST-MODIFIED:20260228T130254Z
UID:3210-1773568800-1773571500@eglisebblieusaint.com
SUMMARY:Étude biblique
DESCRIPTION:
URL:https://eglisebblieusaint.com/evenement/etude-biblique-53
LOCATION:Maison des Associations\, 5 Impasse du Moulin à Vent\, Lieusaint\, 77127
CATEGORIES:Étude biblique
END:VEVENT
BEGIN:VEVENT
DTSTART;TZID=Europe/Paris:20260315T110000
DTEND;TZID=Europe/Paris:20260315T120000
DTSTAMP:20260424T082345
CREATED:20260228T125952Z
LAST-MODIFIED:20260228T125952Z
UID:3202-1773572400-1773576000@eglisebblieusaint.com
SUMMARY:Culte
DESCRIPTION:Nous louons Dieu ensemble dans des chants et une prédication.
URL:https://eglisebblieusaint.com/evenement/culte-58
LOCATION:Maison des Associations\, 5 Impasse du Moulin à Vent\, Lieusaint\, 77127
CATEGORIES:Culte
ATTACH;FMTTYPE=image/jpeg:https://eglisebblieusaint.com/wp-content/uploads/2024/11/459085170_10162107462520139_4420698929922000788_n.jpg
END:VEVENT
BEGIN:VEVENT
DTSTART;TZID=Europe/Paris:20260316T201500
DTEND;TZID=Europe/Paris:20260316T211500
DTSTAMP:20260424T082345
CREATED:20260228T132921Z
LAST-MODIFIED:20260228T132921Z
UID:3230-1773692100-1773695700@eglisebblieusaint.com
SUMMARY:Etude Biblique sur visio
DESCRIPTION:
URL:https://eglisebblieusaint.com/evenement/etude-biblique-sur-visio-2
CATEGORIES:Étude biblique
END:VEVENT
BEGIN:VEVENT
DTSTART;TZID=Europe/Paris:20260317T190000
DTEND;TZID=Europe/Paris:20260317T210000
DTSTAMP:20260424T082345
CREATED:20260228T133350Z
LAST-MODIFIED:20260228T133350Z
UID:3241-1773774000-1773781200@eglisebblieusaint.com
SUMMARY:Reunion de prière
DESCRIPTION:
URL:https://eglisebblieusaint.com/evenement/reunion-de-priere-59
LOCATION:Chez Whittaker
CATEGORIES:La prière
END:VEVENT
BEGIN:VEVENT
DTSTART;TZID=Europe/Paris:20260319T160000
DTEND;TZID=Europe/Paris:20260319T173000
DTSTAMP:20260424T082345
CREATED:20260228T151846Z
LAST-MODIFIED:20260228T151846Z
UID:3251-1773936000-1773941400@eglisebblieusaint.com
SUMMARY:Visite hebdomadaire à la maison de retraite de St Pierre du Perray
DESCRIPTION:
URL:https://eglisebblieusaint.com/evenement/visite-hebdomadaire-a-la-maison-de-retraite-de-st-pierre-du-perray-53
LOCATION:Cedre Blue\, 12 Rue du Château\, Saint-Pierre-du-Perray\, 91280\, France
CATEGORIES:Visite à la maison de retraite
ATTACH;FMTTYPE=image/jpeg:https://eglisebblieusaint.com/wp-content/uploads/2026/01/PANO_20251106_174841-scaled.jpg
END:VEVENT
BEGIN:VEVENT
DTSTART;TZID=Europe/Paris:20260321T100000
DTEND;TZID=Europe/Paris:20260321T120000
DTSTAMP:20260424T082345
CREATED:20260228T152026Z
LAST-MODIFIED:20260228T152026Z
UID:3255-1774087200-1774094400@eglisebblieusaint.com
SUMMARY:Réunion d'hommes
DESCRIPTION:
URL:https://eglisebblieusaint.com/evenement/reunion-dhommes-2
CATEGORIES:Réunion des hommes
END:VEVENT
BEGIN:VEVENT
DTSTART;TZID=Europe/Paris:20260321T180000
DTEND;TZID=Europe/Paris:20260321T200000
DTSTAMP:20260424T082345
CREATED:20260228T152116Z
LAST-MODIFIED:20260228T152116Z
UID:3257-1774116000-1774123200@eglisebblieusaint.com
SUMMARY:Réunion de Femmes : Thème : Le Pardon
DESCRIPTION:
URL:https://eglisebblieusaint.com/evenement/reunion-de-femmes-theme-le-pardon-2
LOCATION:Chez Auterson
CATEGORIES:Réunion des femmes
END:VEVENT
BEGIN:VEVENT
DTSTART;TZID=Europe/Paris:20260322T100000
DTEND;TZID=Europe/Paris:20260322T104500
DTSTAMP:20260424T082345
CREATED:20260228T130335Z
LAST-MODIFIED:20260228T130335Z
UID:3212-1774173600-1774176300@eglisebblieusaint.com
SUMMARY:Étude biblique
DESCRIPTION:
URL:https://eglisebblieusaint.com/evenement/etude-biblique-54
LOCATION:Maison des Associations\, 5 Impasse du Moulin à Vent\, Lieusaint\, 77127
CATEGORIES:Étude biblique
END:VEVENT
BEGIN:VEVENT
DTSTART;TZID=Europe/Paris:20260322T100000
DTEND;TZID=Europe/Paris:20260322T110000
DTSTAMP:20260424T082345
CREATED:20260228T131241Z
LAST-MODIFIED:20260228T131702Z
UID:3220-1774173600-1774177200@eglisebblieusaint.com
SUMMARY:Répitition Pâques
DESCRIPTION:
URL:https://eglisebblieusaint.com/evenement/repitition-paques-2
CATEGORIES:Chorale
END:VEVENT
BEGIN:VEVENT
DTSTART;TZID=Europe/Paris:20260322T110000
DTEND;TZID=Europe/Paris:20260322T120000
DTSTAMP:20260424T082345
CREATED:20260228T130019Z
LAST-MODIFIED:20260228T130019Z
UID:3204-1774177200-1774180800@eglisebblieusaint.com
SUMMARY:Culte
DESCRIPTION:Nous louons Dieu ensemble dans des chants et une prédication.
URL:https://eglisebblieusaint.com/evenement/culte-59
LOCATION:Maison des Associations\, 5 Impasse du Moulin à Vent\, Lieusaint\, 77127
CATEGORIES:Culte
ATTACH;FMTTYPE=image/jpeg:https://eglisebblieusaint.com/wp-content/uploads/2024/11/459085170_10162107462520139_4420698929922000788_n.jpg
END:VEVENT
BEGIN:VEVENT
DTSTART;TZID=Europe/Paris:20260323T201500
DTEND;TZID=Europe/Paris:20260323T211500
DTSTAMP:20260424T082345
CREATED:20260228T132954Z
LAST-MODIFIED:20260228T132954Z
UID:3232-1774296900-1774300500@eglisebblieusaint.com
SUMMARY:Etude Biblique sur visio
DESCRIPTION:
URL:https://eglisebblieusaint.com/evenement/etude-biblique-sur-visio-3
CATEGORIES:Étude biblique
END:VEVENT
BEGIN:VEVENT
DTSTART;TZID=Europe/Paris:20260324T190000
DTEND;TZID=Europe/Paris:20260324T210000
DTSTAMP:20260424T082345
CREATED:20260228T133431Z
LAST-MODIFIED:20260228T133431Z
UID:3243-1774378800-1774386000@eglisebblieusaint.com
SUMMARY:Reunion de prière
DESCRIPTION:
URL:https://eglisebblieusaint.com/evenement/reunion-de-priere-60
LOCATION:Chez Auterson
CATEGORIES:La prière
END:VEVENT
BEGIN:VEVENT
DTSTART;TZID=Europe/Paris:20260326T160000
DTEND;TZID=Europe/Paris:20260326T173000
DTSTAMP:20260424T082345
CREATED:20260228T151908Z
LAST-MODIFIED:20260228T151908Z
UID:3253-1774540800-1774546200@eglisebblieusaint.com
SUMMARY:Visite hebdomadaire à la maison de retraite de St Pierre du Perray
DESCRIPTION:
URL:https://eglisebblieusaint.com/evenement/visite-hebdomadaire-a-la-maison-de-retraite-de-st-pierre-du-perray-54
LOCATION:Cedre Blue\, 12 Rue du Château\, Saint-Pierre-du-Perray\, 91280\, France
CATEGORIES:Visite à la maison de retraite
ATTACH;FMTTYPE=image/jpeg:https://eglisebblieusaint.com/wp-content/uploads/2026/01/PANO_20251106_174841-scaled.jpg
END:VEVENT
BEGIN:VEVENT
DTSTART;TZID=Europe/Paris:20260328T150000
DTEND;TZID=Europe/Paris:20260328T170000
DTSTAMP:20260424T082345
CREATED:20260228T152243Z
LAST-MODIFIED:20260228T152354Z
UID:3259-1774710000-1774717200@eglisebblieusaint.com
SUMMARY:KIDS CLUB Chasse aux oeufs PAQUES
DESCRIPTION:
URL:https://eglisebblieusaint.com/evenement/kids-club-chasse-aux-oeufs-paques
CATEGORIES:Kid's club
END:VEVENT
BEGIN:VEVENT
DTSTART;TZID=Europe/Paris:20260329T100000
DTEND;TZID=Europe/Paris:20260329T104500
DTSTAMP:20260424T082345
CREATED:20260228T130412Z
LAST-MODIFIED:20260228T130412Z
UID:3214-1774778400-1774781100@eglisebblieusaint.com
SUMMARY:Étude biblique
DESCRIPTION:
URL:https://eglisebblieusaint.com/evenement/etude-biblique-55
LOCATION:Maison des Associations\, 5 Impasse du Moulin à Vent\, Lieusaint\, 77127
CATEGORIES:Étude biblique
END:VEVENT
BEGIN:VEVENT
DTSTART;TZID=Europe/Paris:20260329T100000
DTEND;TZID=Europe/Paris:20260329T110000
DTSTAMP:20260424T082345
CREATED:20260228T131733Z
LAST-MODIFIED:20260228T131733Z
UID:3222-1774778400-1774782000@eglisebblieusaint.com
SUMMARY:Répitition Pâques
DESCRIPTION:
URL:https://eglisebblieusaint.com/evenement/repitition-paques-3
CATEGORIES:Chorale
END:VEVENT
BEGIN:VEVENT
DTSTART;TZID=Europe/Paris:20260329T110000
DTEND;TZID=Europe/Paris:20260329T120000
DTSTAMP:20260424T082345
CREATED:20260228T130052Z
LAST-MODIFIED:20260228T130052Z
UID:3206-1774782000-1774785600@eglisebblieusaint.com
SUMMARY:Culte
DESCRIPTION:Nous louons Dieu ensemble dans des chants et une prédication.
URL:https://eglisebblieusaint.com/evenement/culte-60
LOCATION:Maison des Associations\, 5 Impasse du Moulin à Vent\, Lieusaint\, 77127
CATEGORIES:Culte
ATTACH;FMTTYPE=image/jpeg:https://eglisebblieusaint.com/wp-content/uploads/2024/11/459085170_10162107462520139_4420698929922000788_n.jpg
END:VEVENT
BEGIN:VEVENT
DTSTART;TZID=Europe/Paris:20260330T201500
DTEND;TZID=Europe/Paris:20260330T211500
DTSTAMP:20260424T082345
CREATED:20260228T133018Z
LAST-MODIFIED:20260228T133018Z
UID:3234-1774901700-1774905300@eglisebblieusaint.com
SUMMARY:Etude Biblique sur visio
DESCRIPTION:
URL:https://eglisebblieusaint.com/evenement/etude-biblique-sur-visio-4
CATEGORIES:Étude biblique
END:VEVENT
BEGIN:VEVENT
DTSTART;TZID=Europe/Paris:20260331T190000
DTEND;TZID=Europe/Paris:20260331T210000
DTSTAMP:20260424T082345
CREATED:20260228T133508Z
LAST-MODIFIED:20260228T133508Z
UID:3245-1774983600-1774990800@eglisebblieusaint.com
SUMMARY:Reunion de prière
DESCRIPTION:
URL:https://eglisebblieusaint.com/evenement/reunion-de-priere-61
LOCATION:Chez Whittaker
CATEGORIES:La prière
END:VEVENT
END:VCALENDAR